BEGIN:VCALENDAR
VERSION:2.0
PRODID:-//University of Northern Colorado - ECPv6.15.12.2//NONSGML v1.0//EN
CALSCALE:GREGORIAN
METHOD:PUBLISH
X-WR-CALNAME:University of Northern Colorado
X-ORIGINAL-URL:https://www.unco.edu
X-WR-CALDESC:Events for University of Northern Colorado
REFRESH-INTERVAL;VALUE=DURATION:PT1H
X-Robots-Tag:noindex
X-PUBLISHED-TTL:PT1H
BEGIN:VTIMEZONE
TZID:America/Denver
BEGIN:DAYLIGHT
TZOFFSETFROM:-0700
TZOFFSETTO:-0600
TZNAME:MDT
DTSTART:20250309T090000
END:DAYLIGHT
BEGIN:STANDARD
TZOFFSETFROM:-0600
TZOFFSETTO:-0700
TZNAME:MST
DTSTART:20251102T080000
END:STANDARD
BEGIN:DAYLIGHT
TZOFFSETFROM:-0700
TZOFFSETTO:-0600
TZNAME:MDT
DTSTART:20260308T090000
END:DAYLIGHT
BEGIN:STANDARD
TZOFFSETFROM:-0600
TZOFFSETTO:-0700
TZNAME:MST
DTSTART:20261101T080000
END:STANDARD
BEGIN:DAYLIGHT
TZOFFSETFROM:-0700
TZOFFSETTO:-0600
TZNAME:MDT
DTSTART:20270314T090000
END:DAYLIGHT
BEGIN:STANDARD
TZOFFSETFROM:-0600
TZOFFSETTO:-0700
TZNAME:MST
DTSTART:20271107T080000
END:STANDARD
END:VTIMEZONE
BEGIN:VEVENT
DTSTART;TZID=America/Denver:20260411T160000
DTEND;TZID=America/Denver:20260411T180000
DTSTAMP:20260420T020459
CREATED:20260115T235527Z
LAST-MODIFIED:20260302T171813Z
UID:10002501-1775923200-1775930400@www.unco.edu
SUMMARY:74th Annual Colorado All-State Band
DESCRIPTION:UNC Small Ensembles: April 9\, 7:30 p.m.\, CCPH | Free \nUNC Bands: April 10\, 7:30 p.m.\, CCPH | Free \nFinal Concert featuring All-State Bands: April 11\, 4 p.m.\, UCCC | Ticketed \nAll-State Band Festival brings high school students from all across the state to UNC to rehearse for multiple days in two large bands and then perform together on an exciting finale concert that you won’t want to miss!
URL:https://www.unco.edu/events/all-state-band/2026-04-11/
LOCATION:Campus Commons Performance Hall\, 1051 22nd St\, Greeley\, CO\, 80639
CATEGORIES:Music,Performing and Visual Arts,University Events
END:VEVENT
BEGIN:VEVENT
DTSTART;TZID=America/Denver:20260410T193000
DTEND;TZID=America/Denver:20260410T210000
DTSTAMP:20260420T020459
CREATED:20260115T235527Z
LAST-MODIFIED:20260302T171813Z
UID:10002500-1775849400-1775854800@www.unco.edu
SUMMARY:74th Annual Colorado All-State Band
DESCRIPTION:UNC Small Ensembles: April 9\, 7:30 p.m.\, CCPH | Free \nUNC Bands: April 10\, 7:30 p.m.\, CCPH | Free \nFinal Concert featuring All-State Bands: April 11\, 4 p.m.\, UCCC | Ticketed \nAll-State Band Festival brings high school students from all across the state to UNC to rehearse for multiple days in two large bands and then perform together on an exciting finale concert that you won’t want to miss!
URL:https://www.unco.edu/events/all-state-band/2026-04-10/
LOCATION:Campus Commons Performance Hall\, 1051 22nd St\, Greeley\, CO\, 80639
CATEGORIES:Music,Performing and Visual Arts,University Events
END:VEVENT
BEGIN:VEVENT
DTSTART;TZID=America/Denver:20260409T193000
DTEND;TZID=America/Denver:20260409T210000
DTSTAMP:20260420T020459
CREATED:20260115T235527Z
LAST-MODIFIED:20260302T171813Z
UID:10002499-1775763000-1775768400@www.unco.edu
SUMMARY:74th Annual Colorado All-State Band
DESCRIPTION:UNC Small Ensembles: April 9\, 7:30 p.m.\, CCPH | Free \nUNC Bands: April 10\, 7:30 p.m.\, CCPH | Free \nFinal Concert featuring All-State Bands: April 11\, 4 p.m.\, UCCC | Ticketed \nAll-State Band Festival brings high school students from all across the state to UNC to rehearse for multiple days in two large bands and then perform together on an exciting finale concert that you won’t want to miss!
URL:https://www.unco.edu/events/all-state-band/2026-04-09/
LOCATION:Campus Commons Performance Hall\, 1051 22nd St\, Greeley\, CO\, 80639
CATEGORIES:Music,Performing and Visual Arts,University Events
END:VEVENT
END:VCALENDAR