BEGIN:VCALENDAR
VERSION:2.0
PRODID:-//University of Northern Colorado - ECPv6.15.12.2//NONSGML v1.0//EN
CALSCALE:GREGORIAN
METHOD:PUBLISH
X-WR-CALNAME:University of Northern Colorado
X-ORIGINAL-URL:https://www.unco.edu
X-WR-CALDESC:Events for University of Northern Colorado
REFRESH-INTERVAL;VALUE=DURATION:PT1H
X-Robots-Tag:noindex
X-PUBLISHED-TTL:PT1H
BEGIN:VTIMEZONE
TZID:America/Denver
BEGIN:DAYLIGHT
TZOFFSETFROM:-0700
TZOFFSETTO:-0600
TZNAME:MDT
DTSTART:20250309T090000
END:DAYLIGHT
BEGIN:STANDARD
TZOFFSETFROM:-0600
TZOFFSETTO:-0700
TZNAME:MST
DTSTART:20251102T080000
END:STANDARD
BEGIN:DAYLIGHT
TZOFFSETFROM:-0700
TZOFFSETTO:-0600
TZNAME:MDT
DTSTART:20260308T090000
END:DAYLIGHT
BEGIN:STANDARD
TZOFFSETFROM:-0600
TZOFFSETTO:-0700
TZNAME:MST
DTSTART:20261101T080000
END:STANDARD
BEGIN:DAYLIGHT
TZOFFSETFROM:-0700
TZOFFSETTO:-0600
TZNAME:MDT
DTSTART:20270314T090000
END:DAYLIGHT
BEGIN:STANDARD
TZOFFSETFROM:-0600
TZOFFSETTO:-0700
TZNAME:MST
DTSTART:20271107T080000
END:STANDARD
END:VTIMEZONE
BEGIN:VEVENT
DTSTART;TZID=America/Denver:20260211T120000
DTEND;TZID=America/Denver:20260211T133000
DTSTAMP:20260420T060458
CREATED:20260122T225045Z
LAST-MODIFIED:20260123T175223Z
UID:10002558-1770811200-1770816600@www.unco.edu
SUMMARY:Faculty and Staff of Color Luncheon
DESCRIPTION:Join President Feinstein for lunch in the Tobey-Kendel Dining Hall. The informal lunch is an opportunity for networking and community building in support of a welcoming and inclusive university community. All UNC faculty and staff are invited to attend.
URL:https://www.unco.edu/events/faculty-and-staff-of-color-luncheon/
LOCATION:Tobey-Kendel Dining Hall\, 1901 9th Avenue\, Greeley\, CO\, 80631\, United States
CATEGORIES:University Events
ORGANIZER;CN="Office of the President":MAILTO:officeofthepresident@unco.edu
END:VEVENT
END:VCALENDAR