BEGIN:VCALENDAR
VERSION:2.0
PRODID:-//University of Northern Colorado - ECPv6.15.12.2//NONSGML v1.0//EN
CALSCALE:GREGORIAN
METHOD:PUBLISH
X-WR-CALNAME:University of Northern Colorado
X-ORIGINAL-URL:https://www.unco.edu
X-WR-CALDESC:Events for University of Northern Colorado
REFRESH-INTERVAL;VALUE=DURATION:PT1H
X-Robots-Tag:noindex
X-PUBLISHED-TTL:PT1H
BEGIN:VTIMEZONE
TZID:America/Denver
BEGIN:DAYLIGHT
TZOFFSETFROM:-0700
TZOFFSETTO:-0600
TZNAME:MDT
DTSTART:20250309T090000
END:DAYLIGHT
BEGIN:STANDARD
TZOFFSETFROM:-0600
TZOFFSETTO:-0700
TZNAME:MST
DTSTART:20251102T080000
END:STANDARD
BEGIN:DAYLIGHT
TZOFFSETFROM:-0700
TZOFFSETTO:-0600
TZNAME:MDT
DTSTART:20260308T090000
END:DAYLIGHT
BEGIN:STANDARD
TZOFFSETFROM:-0600
TZOFFSETTO:-0700
TZNAME:MST
DTSTART:20261101T080000
END:STANDARD
BEGIN:DAYLIGHT
TZOFFSETFROM:-0700
TZOFFSETTO:-0600
TZNAME:MDT
DTSTART:20270314T090000
END:DAYLIGHT
BEGIN:STANDARD
TZOFFSETFROM:-0600
TZOFFSETTO:-0700
TZNAME:MST
DTSTART:20271107T080000
END:STANDARD
END:VTIMEZONE
BEGIN:VEVENT
DTSTART;TZID=America/Denver:20260422T110000
DTEND;TZID=America/Denver:20260422T121500
DTSTAMP:20260423T152152
CREATED:20260423T162102Z
LAST-MODIFIED:20260423T162209Z
UID:10002725-1776855600-1776860100@www.unco.edu
SUMMARY:ASLIS Student Presentations: Grand Presentations
DESCRIPTION:Hosted by: the Department of American Sign Language and Interpreting Studies in the College of Education and Behavioral SciencesEvent: INTR 204 Student Presentations \nDate: April 30\, 2026Time: 11:00 AM – 12:15 PMLocation: McKee 338 \nVirtual Option (Zoom):https://unco.zoom.us/meetings/92674973844/invitations?signature=sI_ltuTA00IZeidF8ELdjZhJzqnjv3-ck22scXvpqD8 \nMeeting ID: 926 7497 3844 \nPresentation Lineup\nDelivery of Interpretation Services in a K–12 Setting \nPresented by: Mollie MottThis presentation will discuss multiple facets of educational interpreting\, including credentialing insufficiencies\, recommendations for standardization\, interpreter–student relationships\, and the impact of those relationships. \nVideo Relay Service Interpreting\nPresented by: Tyler FrankishThis presentation explores Video Relay Service (VRS) interpreting\, job-related stress\, and its impact on the communities that utilize and interact with the service. \nDifferent Team Dynamics in Interpreting\nPresented by: Mikaela WilsonThis presentation discusses team dynamics across Deaf-Hearing\, theatrical\, and high-stakes settings such as healthcare. It highlights communication\, trust-building\, and decision-making processes. \nThis free event is open to everyone. We can’t wait to see you there in person or online! If you have any questions about this event\, please email: melinda.kisling@unco.edu.
URL:https://www.unco.edu/events/aslis-student-presentations/
LOCATION:McKee Hall 338
CATEGORIES:University Events
END:VEVENT
END:VCALENDAR