BEGIN:VCALENDAR
VERSION:2.0
PRODID:-//University of Northern Colorado - ECPv6.15.12.2//NONSGML v1.0//EN
CALSCALE:GREGORIAN
METHOD:PUBLISH
X-ORIGINAL-URL:https://www.unco.edu
X-WR-CALDESC:Events for University of Northern Colorado
REFRESH-INTERVAL;VALUE=DURATION:PT1H
X-Robots-Tag:noindex
X-PUBLISHED-TTL:PT1H
BEGIN:VTIMEZONE
TZID:America/Denver
BEGIN:DAYLIGHT
TZOFFSETFROM:-0700
TZOFFSETTO:-0600
TZNAME:MDT
DTSTART:20250309T090000
END:DAYLIGHT
BEGIN:STANDARD
TZOFFSETFROM:-0600
TZOFFSETTO:-0700
TZNAME:MST
DTSTART:20251102T080000
END:STANDARD
BEGIN:DAYLIGHT
TZOFFSETFROM:-0700
TZOFFSETTO:-0600
TZNAME:MDT
DTSTART:20260308T090000
END:DAYLIGHT
BEGIN:STANDARD
TZOFFSETFROM:-0600
TZOFFSETTO:-0700
TZNAME:MST
DTSTART:20261101T080000
END:STANDARD
BEGIN:DAYLIGHT
TZOFFSETFROM:-0700
TZOFFSETTO:-0600
TZNAME:MDT
DTSTART:20270314T090000
END:DAYLIGHT
BEGIN:STANDARD
TZOFFSETFROM:-0600
TZOFFSETTO:-0700
TZNAME:MST
DTSTART:20271107T080000
END:STANDARD
END:VTIMEZONE
BEGIN:VEVENT
DTSTART;TZID=America/Denver:20260414T113000
DTEND;TZID=America/Denver:20260414T170000
DTSTAMP:20260420T234053
CREATED:20260129T222451Z
LAST-MODIFIED:20260129T235755Z
UID:10002582-1776166200-1776186000@www.unco.edu
SUMMARY:Weld Food Bank & Bear Pantry: Mobile Food Pantry
DESCRIPTION:The Mobile Food Pantry supplies our campus community with fresh produce and other food items. This event is free to all students and staff\, all you need is your Bear Number. Please bring your reusable bags to carry all your food items.If you have any questions please email us at bear.pantry@unco.edu.
URL:https://www.unco.edu/events/weld-food-bank-bear-pantry-mobile-food-pantry/2026-04-14/
LOCATION:Campus Commons C-Lot\, 1051 22nd St\, Greeley\, CO\, 80639\, United States
CATEGORIES:University Events
ATTACH;FMTTYPE=image/jpeg:/app/uploads/wm_bear_pantry_food_bank_distribution_24_1-scaled.jpg
ORGANIZER;CN="Bear Pantry":MAILTO:bear.pantry@unco.edu
END:VEVENT
BEGIN:VEVENT
DTSTART;TZID=America/Denver:20260310T113000
DTEND;TZID=America/Denver:20260310T170000
DTSTAMP:20260420T234053
CREATED:20260129T222451Z
LAST-MODIFIED:20260129T235755Z
UID:10002581-1773142200-1773162000@www.unco.edu
SUMMARY:Weld Food Bank & Bear Pantry: Mobile Food Pantry
DESCRIPTION:The Mobile Food Pantry supplies our campus community with fresh produce and other food items. This event is free to all students and staff\, all you need is your Bear Number. Please bring your reusable bags to carry all your food items.If you have any questions please email us at bear.pantry@unco.edu.
URL:https://www.unco.edu/events/weld-food-bank-bear-pantry-mobile-food-pantry/2026-03-10/
LOCATION:Campus Commons C-Lot\, 1051 22nd St\, Greeley\, CO\, 80639\, United States
CATEGORIES:University Events
ATTACH;FMTTYPE=image/jpeg:/app/uploads/wm_bear_pantry_food_bank_distribution_24_1-scaled.jpg
ORGANIZER;CN="Bear Pantry":MAILTO:bear.pantry@unco.edu
END:VEVENT
BEGIN:VEVENT
DTSTART;TZID=America/Denver:20260210T113000
DTEND;TZID=America/Denver:20260210T120000
DTSTAMP:20260420T234053
CREATED:20260129T222451Z
LAST-MODIFIED:20260129T235755Z
UID:10002580-1770723000-1770724800@www.unco.edu
SUMMARY:Weld Food Bank & Bear Pantry: Mobile Food Pantry
DESCRIPTION:The Mobile Food Pantry supplies our campus community with fresh produce and other food items. This event is free to all students and staff\, all you need is your Bear Number. Please bring your reusable bags to carry all your food items.If you have any questions please email us at bear.pantry@unco.edu.
URL:https://www.unco.edu/events/weld-food-bank-bear-pantry-mobile-food-pantry/2026-02-10/
LOCATION:Campus Commons C-Lot\, 1051 22nd St\, Greeley\, CO\, 80639\, United States
CATEGORIES:University Events
ATTACH;FMTTYPE=image/jpeg:/app/uploads/wm_bear_pantry_food_bank_distribution_24_1-scaled.jpg
ORGANIZER;CN="Bear Pantry":MAILTO:bear.pantry@unco.edu
END:VEVENT
END:VCALENDAR