BEGIN:VCALENDAR
VERSION:2.0
PRODID:-//University of Northern Colorado - ECPv6.15.12.2//NONSGML v1.0//EN
CALSCALE:GREGORIAN
METHOD:PUBLISH
X-WR-CALNAME:University of Northern Colorado
X-ORIGINAL-URL:https://www.unco.edu
X-WR-CALDESC:Events for University of Northern Colorado
REFRESH-INTERVAL;VALUE=DURATION:PT1H
X-Robots-Tag:noindex
X-PUBLISHED-TTL:PT1H
BEGIN:VTIMEZONE
TZID:America/Denver
BEGIN:DAYLIGHT
TZOFFSETFROM:-0700
TZOFFSETTO:-0600
TZNAME:MDT
DTSTART:20250309T090000
END:DAYLIGHT
BEGIN:STANDARD
TZOFFSETFROM:-0600
TZOFFSETTO:-0700
TZNAME:MST
DTSTART:20251102T080000
END:STANDARD
BEGIN:DAYLIGHT
TZOFFSETFROM:-0700
TZOFFSETTO:-0600
TZNAME:MDT
DTSTART:20260308T090000
END:DAYLIGHT
BEGIN:STANDARD
TZOFFSETFROM:-0600
TZOFFSETTO:-0700
TZNAME:MST
DTSTART:20261101T080000
END:STANDARD
BEGIN:DAYLIGHT
TZOFFSETFROM:-0700
TZOFFSETTO:-0600
TZNAME:MDT
DTSTART:20270314T090000
END:DAYLIGHT
BEGIN:STANDARD
TZOFFSETFROM:-0600
TZOFFSETTO:-0700
TZNAME:MST
DTSTART:20271107T080000
END:STANDARD
END:VTIMEZONE
BEGIN:VEVENT
DTSTART;TZID=America/Denver:20260421T193000
DTEND;TZID=America/Denver:20260421T210000
DTSTAMP:20260421T030705
CREATED:20260116T003746Z
LAST-MODIFIED:20260302T165240Z
UID:10002528-1776799800-1776805200@www.unco.edu
SUMMARY:Symphonic Band & Concert Band
DESCRIPTION:The UNC Symphonic Band is a large\, audition-based ensemble dedicated to performing a wide range of significant wind literature. Under the direction of Dr. Fredrick Brown\, the group focuses on refining technical proficiency and artistic expression through a mix of cornerstone band classics and contemporary compositions. \nThe UNC Concert Band is the university’s most inclusive instrumental ensemble. While music majors may use it to gain experience on secondary instruments\, the group is primarily comprised of non-music majors from across the campus who wish to continue their musical journey in a supportive yet high-quality environment.
URL:https://www.unco.edu/events/symphonic-band-concert-band-2/
LOCATION:Campus Commons Performance Hall\, 1051 22nd St\, Greeley\, CO\, 80639
CATEGORIES:Music,Performing and Visual Arts
ATTACH;FMTTYPE=image/jpeg:/app/uploads/AY24.EC_.1920x1080.jpg
END:VEVENT
BEGIN:VEVENT
DTSTART;TZID=America/Denver:20260422T090000
DTEND;TZID=America/Denver:20260422T110000
DTSTAMP:20260421T030705
CREATED:20260414T191424Z
LAST-MODIFIED:20260414T191424Z
UID:10002699-1776848400-1776855600@www.unco.edu
SUMMARY:Defense of Dissertation\, Emma Alice French\, Counseling Psychology
DESCRIPTION:Emma French will defend her dissertation\, “It Begins at Home: Compassionate Love\, Responsiveness Emotional and Conflictual Experiences in the Parent Child Relationship.”\n\nResearch Advisor: Brian Johnson; Committee: L Tian\, D. Hulac\, T. Dunn\n\nZoom link available upon request by emailing the Research Advisor in advance.
URL:https://www.unco.edu/events/defense-of-dissertation-emma-alice-french-counseling-psychology/
CATEGORIES:University Events
ATTACH;FMTTYPE=image/png:/app/uploads/defense-dissertaion-1120x630-26.png
END:VEVENT
BEGIN:VEVENT
DTSTART;TZID=America/Denver:20260422T123000
DTEND;TZID=America/Denver:20260422T133000
DTSTAMP:20260421T030705
CREATED:20260127T222931Z
LAST-MODIFIED:20260302T164606Z
UID:10002575-1776861000-1776864600@www.unco.edu
SUMMARY:ASL Lunches
DESCRIPTION:The American Sign Language Club invites you to a relaxed\, bring-your-own-lunch signing practice! Whether you’re just starting out or looking to sharpen your skills\, this is a welcoming space to learn and connect through ASL. We’ll be meeting in the McKee Hall Student Lounge\, Room 101 East. If you have any questions\, please email Anand Raj at anand.raj@unco.edu.
URL:https://www.unco.edu/events/asl-lunches-7/
LOCATION:McKee Hall Student Lounge\, University 1200 21st St\, Greeley\, CO\, 80631\, United States
CATEGORIES:University Events
ATTACH;FMTTYPE=image/jpeg:/app/uploads/asl-lunches-6.jpg
END:VEVENT
BEGIN:VEVENT
DTSTART;TZID=America/Denver:20260422T150000
DTEND;TZID=America/Denver:20260422T170000
DTSTAMP:20260421T030705
CREATED:20260414T184120Z
LAST-MODIFIED:20260414T184120Z
UID:10002710-1776870000-1776877200@www.unco.edu
SUMMARY:Implicit Bias Workshop
DESCRIPTION:Implicit Bias Workshop: Become a Better Ally \nJoin us for an engaging and thought-provoking workshop focused on understanding implicit bias and building skills to become a stronger ally to marginalized communities. This session will explore how unconscious biases shape our perceptions and interactions\, and provide practical strategies for fostering more inclusive and equitable environments. \nLed by Trevor D. Smith\, M.Ed.\, BCBA\, this workshop invites participants to reflect\, learn\, and take meaningful steps toward creating positive change in their personal and professional lives. \nEvent Details:Date: April 22\, 2026Time: 3:00 PMLocation: McKee Hall\, Room 0425\, University of Northern Colorado \nBe part of the movement to create more inclusive communities—your voice and participation matter.
URL:https://www.unco.edu/events/implicit-bias-workshop/
LOCATION:McKee Hall 425
CATEGORIES:University Events
ATTACH;FMTTYPE=image/jpeg:/app/uploads/implicit-bias-workshop.jpg
END:VEVENT
BEGIN:VEVENT
DTSTART;TZID=America/Denver:20260423T090000
DTEND;TZID=America/Denver:20260423T110000
DTSTAMP:20260421T030705
CREATED:20260401T150715Z
LAST-MODIFIED:20260401T150715Z
UID:10002687-1776934800-1776942000@www.unco.edu
SUMMARY:Oral Comprehensive Examination\, Mireya Elizabeth Marquez\, School Psychology
DESCRIPTION:Mireya Elizabeth Marquez will take her oral comprehensive examination. \nResearch Advisor: Jacqueline Anderson; Committee: K. Hynes\, B. Nicholson\, T. Gershwin
URL:https://www.unco.edu/events/oral-comprehensive-examination-mireya-elizabeth-marquez-school-psychology/
LOCATION:McKee Hall\, room 201
CATEGORIES:University Events
ATTACH;FMTTYPE=image/png:/app/uploads/oral-comp-exam-1120x630-33.png
END:VEVENT
BEGIN:VEVENT
DTSTART;TZID=America/Denver:20260423T123000
DTEND;TZID=America/Denver:20260423T143000
DTSTAMP:20260421T030705
CREATED:20260401T150815Z
LAST-MODIFIED:20260401T150815Z
UID:10002686-1776947400-1776954600@www.unco.edu
SUMMARY:Oral Comprehensive Examination\, Kelly Marie Pate\, Educational Studies
DESCRIPTION:Kelly Marie Pate will take her oral comprehensive examination. \nResearch Advisor: Christine McConnell; Committee: J. Gambrell\, C. Talbot\, B. Hapcic \nZoom link available upon request by emailing the Research Advisor in advance.
URL:https://www.unco.edu/events/oral-comprehensive-examination-kelly-marie-pate-educational-studies/
CATEGORIES:University Events
ATTACH;FMTTYPE=image/png:/app/uploads/oral-comp-exam-1120x630-32.png
END:VEVENT
BEGIN:VEVENT
DTSTART;TZID=America/Denver:20260423T140000
DTEND;TZID=America/Denver:20260423T160000
DTSTAMP:20260421T030705
CREATED:20260323T152412Z
LAST-MODIFIED:20260323T152412Z
UID:10002672-1776952800-1776960000@www.unco.edu
SUMMARY:Oral Comprehensive Examination\, Aimee Kanode\, Educational Studies
DESCRIPTION:Aimee Kanode will take her oral comprehensive examination. \nResearch Advisor: Christine Kyser; Committee: J. Erekson\, J. Kirshner\, J. Anderson \nTeams link available upon request by emailing the Research Advisor in advance.
URL:https://www.unco.edu/events/oral-comprehensive-examination-aimee-kanode-educational-studies/
CATEGORIES:University Events
ATTACH;FMTTYPE=image/png:/app/uploads/oral-comp-exam-1120x630-24.png
END:VEVENT
BEGIN:VEVENT
DTSTART;TZID=America/Denver:20260423T163000
DTEND;TZID=America/Denver:20260423T190000
DTSTAMP:20260421T030705
CREATED:20260306T211130Z
LAST-MODIFIED:20260306T211329Z
UID:10002642-1776961800-1776970800@www.unco.edu
SUMMARY:UNC•Greeley Jazz Festival Thursday Concert
DESCRIPTION:Alicia Olatujah & David Rosenthal + Walter Smith III & Skylar Tang with the Compass Jazz Orchestra\nAlicia Olatujah & David Rosenthal\nRenowned for her breathtaking tone and expressive depth\, Alicia Olatuja brings her extraordinary artistry to the festival stage in a performance you won’t want to miss. \nA Centennial Celebration of Miles Davis & John Coltrane: Walter Smith III & Skylar Tang with the Compass Jazz Orchestra\nHonoring the 100th birthdays of two jazz icons with two of today’s most compelling voices in modern jazz\, joined by the Compass Jazz Orchestra in a powerful tribute performance. \n 
URL:https://www.unco.edu/events/uncgreeley-jazz-festival-thursday-concert/2026-04-23/1/
LOCATION:Campus Commons Performance Hall\, 1051 22nd St\, Greeley\, CO\, 80639
CATEGORIES:Music,Performing and Visual Arts
ATTACH;FMTTYPE=image/jpeg:/app/uploads/JF26.Lineup.Thur_.1200x600_2.jpg
END:VEVENT
BEGIN:VEVENT
DTSTART;TZID=America/Denver:20260423T193000
DTEND;TZID=America/Denver:20260423T213000
DTSTAMP:20260421T030705
CREATED:20260126T182752Z
LAST-MODIFIED:20260302T164319Z
UID:10002510-1776972600-1776979800@www.unco.edu
SUMMARY:Sin Street Social Club
DESCRIPTION:Play in Langworthy Theatre By Jessica Austgen\n(Pre-show talk with the playwright & director at 7 p.m. on April 24) \nAdapted from Alpha Behn’s The Rover | Directed by Rand Harmon  \nSet in 1916 New Orleans\, Sin Street Social Club is a funny\, flirty feminist retelling of Behn’s bawdy tale originally written in 1677. A nun\, a pirate\, a lawyer and a nightclub singer walk into a bar on Mardi Gras…
URL:https://www.unco.edu/events/__trashed-3/2026-04-23/
LOCATION:Langworthy Theatre\, 1710 9th Ave\, Greeley\, CO\, 80631\, United States
CATEGORIES:Performing and Visual Arts,Theatre
ATTACH;FMTTYPE=image/jpeg:/app/uploads/SinStreet_assets1130x400.jpg
END:VEVENT
BEGIN:VEVENT
DTSTART;TZID=America/Denver:20260423T193000
DTEND;TZID=America/Denver:20260423T220000
DTSTAMP:20260421T030705
CREATED:20260306T211130Z
LAST-MODIFIED:20260306T211329Z
UID:10002643-1776972600-1776981600@www.unco.edu
SUMMARY:UNC•Greeley Jazz Festival Thursday Concert
DESCRIPTION:Alicia Olatujah & David Rosenthal + Walter Smith III & Skylar Tang with the Compass Jazz Orchestra\nAlicia Olatujah & David Rosenthal\nRenowned for her breathtaking tone and expressive depth\, Alicia Olatuja brings her extraordinary artistry to the festival stage in a performance you won’t want to miss. \nA Centennial Celebration of Miles Davis & John Coltrane: Walter Smith III & Skylar Tang with the Compass Jazz Orchestra\nHonoring the 100th birthdays of two jazz icons with two of today’s most compelling voices in modern jazz\, joined by the Compass Jazz Orchestra in a powerful tribute performance. \n 
URL:https://www.unco.edu/events/uncgreeley-jazz-festival-thursday-concert/2026-04-23/2/
LOCATION:Campus Commons Performance Hall\, 1051 22nd St\, Greeley\, CO\, 80639
CATEGORIES:Music,Performing and Visual Arts
ATTACH;FMTTYPE=image/jpeg:/app/uploads/JF26.Lineup.Thur_.1200x600_2.jpg
END:VEVENT
BEGIN:VEVENT
DTSTART;TZID=America/Denver:20260424T120000
DTEND;TZID=America/Denver:20260424T140000
DTSTAMP:20260421T030705
CREATED:20260414T184548Z
LAST-MODIFIED:20260414T184548Z
UID:10002704-1777032000-1777039200@www.unco.edu
SUMMARY:Defense of Dissertation\, Michelle Marie Thomas\, Special Education
DESCRIPTION:Michelle Marie Thomas will defend her dissertation\, “The Intersection of Youth Leadership and Self-Determination: A Narrative Inquiry into the Academic and Mental Health Experiences of Students with Reading Disabilities.”\n\nResearch Advisor: Jennifer Urbach; Committee: L. Peterson\, L. Trapp\, B. Rose\n\nZoom link available upon request by emailing the Research Advisor in advance.
URL:https://www.unco.edu/events/defense-of-dissertation-michelle-marie-thomas-special-education/
CATEGORIES:University Events
ATTACH;FMTTYPE=image/png:/app/uploads/defense-dissertaion-1120x630-29.png
END:VEVENT
BEGIN:VEVENT
DTSTART;TZID=America/Denver:20260424T133000
DTEND;TZID=America/Denver:20260424T153000
DTSTAMP:20260421T030705
CREATED:20260323T151858Z
LAST-MODIFIED:20260323T151858Z
UID:10002673-1777037400-1777044600@www.unco.edu
SUMMARY:Defense of Dissertation\, Laura Ann Meadows\, Biological Education
DESCRIPTION:Laura Ann Meadows will defend her dissertation\, “Conserving Native Plant Genetics: The Uses of ‘Native’ Seeds in Restoration.” \nResearch Advisor: Mitchell McGlaughlin; Committee: E. Holt\, C. Dawson\, J. Salo \nZoom link available upon request by emailing the Research Advisor in advance.
URL:https://www.unco.edu/events/defense-of-dissertation-laura-ann-meadows-biological-education/
CATEGORIES:University Events
ATTACH;FMTTYPE=image/png:/app/uploads/defense-dissertaion-1120x630-23.png
END:VEVENT
BEGIN:VEVENT
DTSTART;TZID=America/Denver:20260424T163000
DTEND;TZID=America/Denver:20260424T190000
DTSTAMP:20260421T030705
CREATED:20260306T211613Z
LAST-MODIFIED:20260306T212318Z
UID:10002644-1777048200-1777057200@www.unco.edu
SUMMARY:UNC•Greeley Jazz Festival Friday Concert
DESCRIPTION:The Alfredo Rodriguez Quintet + A Tribute to Jaco Pastorius featuring the Compass Jazz Orchestra and special guest Victor Wooten\nThe Alfredo Rodriguez Quintet\nInternationally acclaimed pianist and composer Alfredo Rodríguez brings his electrifying quintet to Greeley for a high-energy set blending virtuosity\, Cuban tradition\, and contemporary jazz innovation. \nA Tribute to Jaco Pastorius featuring the Compass Jazz Orchestra and special guest Victor Wooten\nThe award winning Compass Jazz Orchestra pays tribute to the legendary Jaco Pastorius in an electrifying performance featuring music from Weather Report\, the Word of Mouth Big Band\, and more. Joined by five-time Grammy-winning bassist Victor Wooten\, this set promises virtuosity\, groove\, and a celebration of one of the most influential bassists in jazz history.
URL:https://www.unco.edu/events/uncgreeley-jazz-festival-friday-concert/2026-04-24/1/
LOCATION:Campus Commons Performance Hall\, 1051 22nd St\, Greeley\, CO\, 80639
CATEGORIES:Music,Performing and Visual Arts
ATTACH;FMTTYPE=image/jpeg:/app/uploads/JF26.Lineup.Fri_.1200x600.jpg
END:VEVENT
BEGIN:VEVENT
DTSTART;TZID=America/Denver:20260424T193000
DTEND;TZID=America/Denver:20260424T210000
DTSTAMP:20260421T030705
CREATED:20260126T182752Z
LAST-MODIFIED:20260302T164319Z
UID:10002511-1777059000-1777064400@www.unco.edu
SUMMARY:Sin Street Social Club
DESCRIPTION:Play in Langworthy Theatre By Jessica Austgen\n(Pre-show talk with the playwright & director at 7 p.m. on April 24) \nAdapted from Alpha Behn’s The Rover | Directed by Rand Harmon  \nSet in 1916 New Orleans\, Sin Street Social Club is a funny\, flirty feminist retelling of Behn’s bawdy tale originally written in 1677. A nun\, a pirate\, a lawyer and a nightclub singer walk into a bar on Mardi Gras…
URL:https://www.unco.edu/events/__trashed-3/2026-04-24/
LOCATION:Langworthy Theatre\, 1710 9th Ave\, Greeley\, CO\, 80631\, United States
CATEGORIES:Performing and Visual Arts,Theatre
ATTACH;FMTTYPE=image/jpeg:/app/uploads/SinStreet_assets1130x400.jpg
END:VEVENT
BEGIN:VEVENT
DTSTART;TZID=America/Denver:20260424T193000
DTEND;TZID=America/Denver:20260424T220000
DTSTAMP:20260421T030705
CREATED:20260306T211613Z
LAST-MODIFIED:20260306T212318Z
UID:10002646-1777059000-1777068000@www.unco.edu
SUMMARY:UNC•Greeley Jazz Festival Friday Concert
DESCRIPTION:The Alfredo Rodriguez Quintet + A Tribute to Jaco Pastorius featuring the Compass Jazz Orchestra and special guest Victor Wooten\nThe Alfredo Rodriguez Quintet\nInternationally acclaimed pianist and composer Alfredo Rodríguez brings his electrifying quintet to Greeley for a high-energy set blending virtuosity\, Cuban tradition\, and contemporary jazz innovation. \nA Tribute to Jaco Pastorius featuring the Compass Jazz Orchestra and special guest Victor Wooten\nThe award winning Compass Jazz Orchestra pays tribute to the legendary Jaco Pastorius in an electrifying performance featuring music from Weather Report\, the Word of Mouth Big Band\, and more. Joined by five-time Grammy-winning bassist Victor Wooten\, this set promises virtuosity\, groove\, and a celebration of one of the most influential bassists in jazz history.
URL:https://www.unco.edu/events/uncgreeley-jazz-festival-friday-concert/2026-04-24/2/
LOCATION:Campus Commons Performance Hall\, 1051 22nd St\, Greeley\, CO\, 80639
CATEGORIES:Music,Performing and Visual Arts
ATTACH;FMTTYPE=image/jpeg:/app/uploads/JF26.Lineup.Fri_.1200x600.jpg
END:VEVENT
BEGIN:VEVENT
DTSTART;TZID=America/Denver:20260425T163000
DTEND;TZID=America/Denver:20260425T190000
DTSTAMP:20260421T030705
CREATED:20260306T211803Z
LAST-MODIFIED:20260306T211803Z
UID:10002645-1777134600-1777143600@www.unco.edu
SUMMARY:UNC•Greeley Jazz Festival Saturday Concert
DESCRIPTION:Jeff Hamilton\, John Clayton & Larry Fuller + The Zaremba Jazz Fellowship with Wayne Bergeron\nThe Legacy of Ray Brown: Jeff Hamilton\, Drums\, John Clayton\, Bass & Larry Fuller\, Piano\nWith Jeff Hamilton—former member of the Ray Brown Trio—and Larry Fuller\, who served as Ray’s final pianist\, this ensemble brings unparalleled authenticity to honoring Brown’s enduring influence. Joined by longtime collaborator John Clayton\, their performance promises swing\, depth\, and exceptional chemistry. \nThe Zaremba Jazz Fellowship with Wayne Bergeron\nThe inventive writing and electric energy of the Zaremba Jazz Fellowship—under the direction of Drew Zaremba—meets the powerhouse trumpet artistry of Wayne Bergeron for a high-octane big band experience.
URL:https://www.unco.edu/events/uncgreeley-jazz-festival-saturday-concert/
LOCATION:Campus Commons Performance Hall\, 1051 22nd St\, Greeley\, CO\, 80639
CATEGORIES:Music,Performing and Visual Arts
ATTACH;FMTTYPE=image/jpeg:/app/uploads/JF26.Lineup.Sat_.1200x600.jpg
END:VEVENT
BEGIN:VEVENT
DTSTART;TZID=America/Denver:20260425T193000
DTEND;TZID=America/Denver:20260425T210000
DTSTAMP:20260421T030705
CREATED:20260126T182752Z
LAST-MODIFIED:20260302T164319Z
UID:10002512-1777145400-1777150800@www.unco.edu
SUMMARY:Sin Street Social Club
DESCRIPTION:Play in Langworthy Theatre By Jessica Austgen\n(Pre-show talk with the playwright & director at 7 p.m. on April 24) \nAdapted from Alpha Behn’s The Rover | Directed by Rand Harmon  \nSet in 1916 New Orleans\, Sin Street Social Club is a funny\, flirty feminist retelling of Behn’s bawdy tale originally written in 1677. A nun\, a pirate\, a lawyer and a nightclub singer walk into a bar on Mardi Gras…
URL:https://www.unco.edu/events/__trashed-3/2026-04-25/
LOCATION:Langworthy Theatre\, 1710 9th Ave\, Greeley\, CO\, 80631\, United States
CATEGORIES:Performing and Visual Arts,Theatre
ATTACH;FMTTYPE=image/jpeg:/app/uploads/SinStreet_assets1130x400.jpg
END:VEVENT
BEGIN:VEVENT
DTSTART;TZID=America/Denver:20260426T140000
DTEND;TZID=America/Denver:20260426T160000
DTSTAMP:20260421T030705
CREATED:20260126T182752Z
LAST-MODIFIED:20260302T164319Z
UID:10002513-1777212000-1777219200@www.unco.edu
SUMMARY:Sin Street Social Club
DESCRIPTION:Play in Langworthy Theatre By Jessica Austgen\n(Pre-show talk with the playwright & director at 7 p.m. on April 24) \nAdapted from Alpha Behn’s The Rover | Directed by Rand Harmon  \nSet in 1916 New Orleans\, Sin Street Social Club is a funny\, flirty feminist retelling of Behn’s bawdy tale originally written in 1677. A nun\, a pirate\, a lawyer and a nightclub singer walk into a bar on Mardi Gras…
URL:https://www.unco.edu/events/__trashed-3/2026-04-26/
LOCATION:Langworthy Theatre\, 1710 9th Ave\, Greeley\, CO\, 80631\, United States
CATEGORIES:Performing and Visual Arts,Theatre
ATTACH;FMTTYPE=image/jpeg:/app/uploads/SinStreet_assets1130x400.jpg
END:VEVENT
BEGIN:VEVENT
DTSTART;TZID=America/Denver:20260427T140000
DTEND;TZID=America/Denver:20260427T160000
DTSTAMP:20260421T030705
CREATED:20260414T183418Z
LAST-MODIFIED:20260414T183418Z
UID:10002711-1777298400-1777305600@www.unco.edu
SUMMARY:Defense of Dissertation\, Curtis Scotty Davis\, Sport and Exercise Science
DESCRIPTION:Curtis Scotty Davis will defend his dissertation\, “The Effects of Maternal Voluntary Wheel Running During Gonadotropin-Releasing Hormone Agonists (GNRHA) Treatment on Physical Activity Behavior and Cognitive Health in Male and Female Offspring.”\n\nResearch Advisor: David Hydock; Committee: L. Stewart\, J. Krause\, C. Lunaris
URL:https://www.unco.edu/events/defense-of-dissertation-curtis-scotty-davis-sport-and-exercise-science/
LOCATION:Gunter Hall\, room 2520
CATEGORIES:University Events
ATTACH;FMTTYPE=image/png:/app/uploads/defense-dissertaion-1120x630-31.png
END:VEVENT
BEGIN:VEVENT
DTSTART;TZID=America/Denver:20260427T143000
DTEND;TZID=America/Denver:20260427T163000
DTSTAMP:20260421T030705
CREATED:20260323T151718Z
LAST-MODIFIED:20260323T151718Z
UID:10002674-1777300200-1777307400@www.unco.edu
SUMMARY:Oral Comprehensive Examination\, Kelcie P. DeBow\, Educational Studies
DESCRIPTION:Kelcie P. DeBow will take her oral comprehensive examination. \nResearch Advisor: James Gambrell; Committee: J. Kirshner\, C. Kyser\, L. Reiten \nTeams link available upon request by emailing the Research Advisor in advance.
URL:https://www.unco.edu/events/oral-comprehensive-examination-kelcie-p-debow-educational-studies/
CATEGORIES:University Events
ATTACH;FMTTYPE=image/png:/app/uploads/oral-comp-exam-1120x630-25.png
END:VEVENT
BEGIN:VEVENT
DTSTART;TZID=America/Denver:20260428T090000
DTEND;TZID=America/Denver:20260428T110000
DTSTAMP:20260421T030705
CREATED:20260406T160334Z
LAST-MODIFIED:20260406T160334Z
UID:10002696-1777366800-1777374000@www.unco.edu
SUMMARY:Oral Comprehensive Examination\, Kelly Spriggs\, Nursing Education
DESCRIPTION:Kelly Spriggs will take her oral comprehensive examination. \nResearch Advisor: Carlo Parker; Committee: D. Copeland\, M Hebeshy\, L. Stewart \nZoom link available upon request by emailing the Research Advisor in advance.
URL:https://www.unco.edu/events/oral-comprehensive-examination-kelly-spriggs-nursing-education/
CATEGORIES:University Events
ATTACH;FMTTYPE=image/png:/app/uploads/oral-comp-exam-1120x630-34.png
END:VEVENT
BEGIN:VEVENT
DTSTART;TZID=America/Denver:20260428T100000
DTEND;TZID=America/Denver:20260428T120000
DTSTAMP:20260421T030706
CREATED:20260414T191257Z
LAST-MODIFIED:20260414T191257Z
UID:10002702-1777370400-1777377600@www.unco.edu
SUMMARY:Oral Comprehensive Examination\, Justin Aman\, Counseling Psychology
DESCRIPTION:Justin Aman will take his oral comprehensive examination.\n\nResearch Advisor: Lu Tian; Committee: K. Parnell\, E. Allen\, C. Tsai\n\nZoom link available upon request by emailing the Research Advisor in advance.
URL:https://www.unco.edu/events/oral-comprehensive-examination-justin-aman-counseling-psychology/
CATEGORIES:University Events
ATTACH;FMTTYPE=image/png:/app/uploads/oral-comp-exam-1120x630-37.png
END:VEVENT
BEGIN:VEVENT
DTSTART;TZID=America/Denver:20260429T110000
DTEND;TZID=America/Denver:20260429T130000
DTSTAMP:20260421T030706
CREATED:20260323T151635Z
LAST-MODIFIED:20260323T151635Z
UID:10002675-1777460400-1777467600@www.unco.edu
SUMMARY:Oral Comprehensive Examination\, Jennifer Robin Kohn\, Educational Studies
DESCRIPTION:Jennifer Robin Kohn will take her oral comprehensive examination. \nResearch Advisor: Jean Kirshner; Committee: C. McConnell\, J. Gambrell\, T. Gershwin \nZoom link available upon request by emailing the Research Advisor in advance.
URL:https://www.unco.edu/events/oral-comprehensive-examination-jennifer-robin-kohn-educational-studies/
CATEGORIES:University Events
ATTACH;FMTTYPE=image/png:/app/uploads/oral-comp-exam-1120x630-26.png
END:VEVENT
BEGIN:VEVENT
DTSTART;TZID=America/Denver:20260429T123000
DTEND;TZID=America/Denver:20260429T143000
DTSTAMP:20260421T030706
CREATED:20260417T171012Z
LAST-MODIFIED:20260417T171012Z
UID:10002718-1777465800-1777473000@www.unco.edu
SUMMARY:Defense of Dissertation\, Caterina Belle Azzarello\, Educational Psychology
DESCRIPTION:Caterina Belle Azzarello will defend her dissertation\, “Evaluating the Impact of Font on Dyslexic and Non-Dyslexic Science\, Technology\, Engineering\, and mathematics Student Reading Comprehension and Speed.” \nResearch Advisors: Joanna Lewis and Molly Jameson; Committee: C. Bergstrom\, S.-H. Paek\, C. Romulo
URL:https://www.unco.edu/events/defense-of-dissertation-caterina-belle-azzarello-educational-psychology/
LOCATION:McKee Hall 282
CATEGORIES:University Events
ATTACH;FMTTYPE=image/png:/app/uploads/defense-dissertaion-1120x630-34.png
END:VEVENT
BEGIN:VEVENT
DTSTART;TZID=America/Denver:20260429T180000
DTEND;TZID=America/Denver:20260429T203000
DTSTAMP:20260421T030706
CREATED:20260415T152618Z
LAST-MODIFIED:20260415T152645Z
UID:10002714-1777485600-1777494600@www.unco.edu
SUMMARY:Graduate Research Evening
DESCRIPTION:This event provides graduate students the opportunity to present their research projects. \nParticipating graduate students are also eligible for the Hutchinson-Lahman-Larkins Research Award. This award helps graduate students present their research at a national or regional conference. Award winners receive travel funding to present at a professional conference. \nFood will be available in the Multipurpose Room beginning at 6 p.m. (until it runs out). \nSchedule \n\n6-7 p.m. \n\nOral Presentations Session 1\, second floor meeting rooms\, Campus Commons\nPoster Session\, Campus Commons Multipurpose Room\n\n7:05-8:05 p.m. \n\nOral Presentations Session 2\, second floor meeting rooms\, Campus Commons\nPoster Session\, Campus Commons Multipurpose Room\n\n8:10-8:30 p.m. \n\nHutchinson Lahman Larkins Awards\, Campus Commons Prosperity Room\nCEBS Diversity Research AwardCampus Commons Prosperity Room\n\n\nAre You Interested in Presenting? \n\nAll graduate students engaged in research\, scholarship\, or creative works are invited to present their work in an oral presentation or poster format.\nSynchronous Zoom options are available for oral presentations.\nSubmit research to be considered for the HLL or CEBS diversity awards at the registration link.\nAll research presentations are accepted and proposed research presentations are encouraged.\nA reminder and virtual Zoom presentation link will be sent out closer to the event.\n\nRegister Now!
URL:https://www.unco.edu/events/graduate-research-evening/
LOCATION:Campus Commons
CATEGORIES:University Events
ATTACH;FMTTYPE=image/jpeg:/app/uploads/Resesarch-Evening-2026-calendar-2.jpg
END:VEVENT
BEGIN:VEVENT
DTSTART;TZID=America/Denver:20260430T120000
DTEND;TZID=America/Denver:20260430T140000
DTSTAMP:20260421T030706
CREATED:20260414T191401Z
LAST-MODIFIED:20260414T191401Z
UID:10002700-1777550400-1777557600@www.unco.edu
SUMMARY:Defense of Dissertation\, Mark Karugarama\, Technology\, Innovation and Pedagogy
DESCRIPTION:Mark Karugarama will defend his dissertation\, “Developing and Validating an Artificial Intelligence Competency Framework for Teacher Education Programs in the United States.”\n\nResearch Advisor: Heng-Yu Ku; Committee: M. Farber\, C. Tsai\, M. Lahman\n\nZoom link available upon request by emailing the Research Advisor in advance.
URL:https://www.unco.edu/events/defense-of-dissertation-mark-karugarama-technology-innovation-and-pedagogy/
CATEGORIES:University Events
ATTACH;FMTTYPE=image/png:/app/uploads/defense-dissertaion-1120x630-27.png
END:VEVENT
BEGIN:VEVENT
DTSTART;TZID=America/Denver:20260430T150000
DTEND;TZID=America/Denver:20260430T170000
DTSTAMP:20260421T030706
CREATED:20260414T191325Z
LAST-MODIFIED:20260414T191325Z
UID:10002701-1777561200-1777568400@www.unco.edu
SUMMARY:Defense of Dissertation\, Alicia Kay Kelly\, Counseling Psychology
DESCRIPTION:Alicia Kay Kelly will defend her dissertation\, “Coping with College: The Impacts of Cognitive Appraisals on Undergraduate Students’ Cognitive Emotion Regulation Choice.”\n\nResearch Advisor: Kenneth Parnell; Committee: L. Tian\, A. Vaughan\, T. Dunn\n\nZoom link available upon request by emailing the Research Advisor in advance.
URL:https://www.unco.edu/events/defense-of-dissertation-alicia-kay-kelly-counseling-psychology/
CATEGORIES:University Events
ATTACH;FMTTYPE=image/png:/app/uploads/defense-dissertaion-1120x630-28.png
END:VEVENT
BEGIN:VEVENT
DTSTART;TZID=America/Denver:20260430T163000
DTEND;TZID=America/Denver:20260430T183000
DTSTAMP:20260421T030706
CREATED:20260116T013451Z
LAST-MODIFIED:20260302T164247Z
UID:10002545-1777566600-1777573800@www.unco.edu
SUMMARY:Graphic Design Senior Show
DESCRIPTION:Art Walk & Reception: Thursday\, April 30\, 4:30-6:30 p.m. \n\nGraphic Design Senior Show\nApril 21–May 1 | Lydia & Robert Ruyle Gallery \nSee the senior portfolio exhibition from UNC Graphic Design students. \n\nMariani & Oak Room Student Shows\nApril 21–May 30 | Mariani & Oak Room Galleries  \nIndividual student artists propose\, create\, curate and install their own exhibitions.
URL:https://www.unco.edu/events/graphic-design-senior-show/
LOCATION:Lydia and Robert Ruyle Gallery\, 1051 20th St\, Greeley\, CO\, 80639
CATEGORIES:Performing and Visual Arts,University Events,Visual Arts
ATTACH;FMTTYPE=image/jpeg:/app/uploads/GraphicDesign_assets1130x400.jpg
END:VEVENT
END:VCALENDAR