BEGIN:VCALENDAR
VERSION:2.0
PRODID:-//University of Northern Colorado - ECPv6.15.12.2//NONSGML v1.0//EN
CALSCALE:GREGORIAN
METHOD:PUBLISH
X-WR-CALNAME:University of Northern Colorado
X-ORIGINAL-URL:https://www.unco.edu
X-WR-CALDESC:Events for University of Northern Colorado
REFRESH-INTERVAL;VALUE=DURATION:PT1H
X-Robots-Tag:noindex
X-PUBLISHED-TTL:PT1H
BEGIN:VTIMEZONE
TZID:America/Denver
BEGIN:DAYLIGHT
TZOFFSETFROM:-0700
TZOFFSETTO:-0600
TZNAME:MDT
DTSTART:20240310T090000
END:DAYLIGHT
BEGIN:STANDARD
TZOFFSETFROM:-0600
TZOFFSETTO:-0700
TZNAME:MST
DTSTART:20241103T080000
END:STANDARD
BEGIN:DAYLIGHT
TZOFFSETFROM:-0700
TZOFFSETTO:-0600
TZNAME:MDT
DTSTART:20250309T090000
END:DAYLIGHT
BEGIN:STANDARD
TZOFFSETFROM:-0600
TZOFFSETTO:-0700
TZNAME:MST
DTSTART:20251102T080000
END:STANDARD
BEGIN:DAYLIGHT
TZOFFSETFROM:-0700
TZOFFSETTO:-0600
TZNAME:MDT
DTSTART:20260308T090000
END:DAYLIGHT
BEGIN:STANDARD
TZOFFSETFROM:-0600
TZOFFSETTO:-0700
TZNAME:MST
DTSTART:20261101T080000
END:STANDARD
BEGIN:DAYLIGHT
TZOFFSETFROM:-0700
TZOFFSETTO:-0600
TZNAME:MDT
DTSTART:20270314T090000
END:DAYLIGHT
BEGIN:STANDARD
TZOFFSETFROM:-0600
TZOFFSETTO:-0700
TZNAME:MST
DTSTART:20271107T080000
END:STANDARD
END:VTIMEZONE
BEGIN:VEVENT
DTSTART;TZID=America/Denver:20260120T183000
DTEND;TZID=America/Denver:20260120T193000
DTSTAMP:20260422T215228
CREATED:20260109T181437Z
LAST-MODIFIED:20260109T185927Z
UID:10002480-1768933800-1768937400@www.unco.edu
SUMMARY:Faculty Recital: Jenna Braaksma\, piano
DESCRIPTION:We have incredibly talented faculty in the UNC College of Performing and Visual Arts\, and we’re shining a spotlight on them for an evening! See the best of our School of Music faculty in the Campus Commons Performance Hall on Tuesdays at 6:30pm. \nDr. Jenna Braaksma currently serves as Assistant Professor of Collaborative Piano and Piano Pedagogy at the University of Northern Colorado\, where she teaches graduate collaborative piano lessons\, undergraduate class piano\, and both undergraduate and graduate piano pedagogy courses. She also advises graduate assistants and serves as a collaborative pianist for faculty performances and guest artist recitals across campus.
URL:https://www.unco.edu/events/braaksma/
LOCATION:Campus Commons Performance Hall\, 1051 22nd St\, Greeley\, CO\, 80639
CATEGORIES:Music,Performing and Visual Arts
ATTACH;FMTTYPE=image/jpeg:/app/uploads/AY24.FR_.jpg
END:VEVENT
BEGIN:VEVENT
DTSTART;TZID=America/Denver:20260116T180000
DTEND;TZID=America/Denver:20260116T210000
DTSTAMP:20260422T215228
CREATED:20260109T180559Z
LAST-MODIFIED:20260122T163226Z
UID:10002479-1768586400-1768597200@www.unco.edu
SUMMARY:Through Lines
DESCRIPTION:Through Lines is a series of interdisciplinary projects created by faculty members. These multi-part experiences in Campus Commons take you across artistic lines in a melding of music\, theatre\, visual art and dance. \nSadware\nCreated by Bri Murphy\, Belle-Pilar Fleming\, Seojung Lee \nArt Reception 6-7:30pm \nSadware considers ideas of familial inheritance\, class and consumerism by investigating the material history of pewter in the United States. Exploring sculpture\, textile\, printmaking and book arts\, this project treats pewter as a case study on the complexity of American identity. \nPBS Bach\nCreated by Jubal Fulks & Sarah Tallman  \nBach’s three Partitas for solo violin performed by our own professor Jubal Fulks meet the modern choreography of Sarah Tallman\, Ballet Master and Associate Choreographer at Wonderbound Dance Company in Denver. \nCanciones de mi alma (Songs from my soul)\nCreated by Armando Contreras\, Steven Aguiló-Arbues\, Javier Vinasco \nThis evening of Mariachi and Spanish Art Song brings together baritone Armando Contreras\, pianist and music director Steven Aguiló-Arbues\, and clarinettist Javier Vinasco. \nSee the Program
URL:https://www.unco.edu/events/throughlines/
LOCATION:Campus Commons Performance Hall\, 1051 22nd St\, Greeley\, CO\, 80639
CATEGORIES:Music,Performing and Visual Arts,Theatre,University Events,Visual Arts
ATTACH;FMTTYPE=image/jpeg:/app/uploads/IMG_0141.jpg
END:VEVENT
BEGIN:VEVENT
DTSTART;TZID=America/Denver:20260116T120000
DTEND;TZID=America/Denver:20260116T140000
DTSTAMP:20260422T215228
CREATED:20260106T163224Z
LAST-MODIFIED:20260106T163224Z
UID:10002467-1768564800-1768572000@www.unco.edu
SUMMARY:Oral Comprehensive Examination\, Benjamin Joseph Linford\, Educational Leadership & Policy Studies
DESCRIPTION:Benjamin Joseph Linford will take his oral comprehensive examination. \nResearch Advisor: Jonathan Cooney  Committee: M. Cohen\, G. Tucker\, C. Sonnentag \nZoom link available upon request by emailing the Research Advisor in advance.
URL:https://www.unco.edu/events/oral-comprehensive-examination-benjamin-joseph-linford-educational-leadership-policy-studies/
LOCATION:CO
CATEGORIES:University Events
ATTACH;FMTTYPE=image/png:/app/uploads/oral-comp-exam-1120x630-1.png
END:VEVENT
BEGIN:VEVENT
DTSTART;TZID=America/Denver:20260116T100000
DTEND;TZID=America/Denver:20260116T120000
DTSTAMP:20260422T215228
CREATED:20260106T171024Z
LAST-MODIFIED:20260106T171024Z
UID:10002471-1768557600-1768564800@www.unco.edu
SUMMARY:Oral Comprehensive Examination\, Laurel Edwards Condon\, Educational Leadership & Policy Studies
DESCRIPTION:Laurel Edwards Condon will take her oral comprehensive examination. \nResearch Advisors: Michael Cohen\, Lizette Navarrete-Burks  Committee: J. Cooney\, M. Farber \nZoom link available upon request by emailing the Research Advisor in advance.
URL:https://www.unco.edu/events/oral-comprehensive-examination-laurel-edwards-condon-educational-leadership-policy-studies/
LOCATION:CO
CATEGORIES:University Events
ATTACH;FMTTYPE=image/png:/app/uploads/oral-comp-exam-1120x630-2.png
END:VEVENT
BEGIN:VEVENT
DTSTART;TZID=America/Denver:20260113T193000
DTEND;TZID=America/Denver:20260113T203000
DTSTAMP:20260422T215228
CREATED:20260108T174953Z
LAST-MODIFIED:20260112T171949Z
UID:10002478-1768332600-1768336200@www.unco.edu
SUMMARY:Guest Artist Recital: Antonio di Cristofano\, piano
DESCRIPTION:
URL:https://www.unco.edu/events/guest-artist-recital-antonio-di-cristofano-piano/
LOCATION:Campus Commons Performance Hall\, 1051 22nd St\, Greeley\, CO\, 80639
CATEGORIES:Music,Performing and Visual Arts
ATTACH;FMTTYPE=image/jpeg:/app/uploads/SP26_DiCristofano_1080x1080.jpg
END:VEVENT
BEGIN:VEVENT
DTSTART;TZID=America/Denver:20251202T110000
DTEND;TZID=America/Denver:20251202T130000
DTSTAMP:20260422T215228
CREATED:20251124T175727Z
LAST-MODIFIED:20251217T195920Z
UID:10002461-1764673200-1764680400@www.unco.edu
SUMMARY:Defense of Dissertation\, Neve Grosse Siegfreid\, Educational Studies
DESCRIPTION:Neve Grosse Siegfreid will defend her dissertation\, “Experiences of Care from the Perspective of Students with Disabilities: A Multi-Case Study.” \nResearch Advisor: Christine Kyser; Committee: J. Erekson\, J. Harding-Middleton\, J. Anderson \nZoom link available upon request by emailing the Research Advisor
URL:https://www.unco.edu/events/defense-of-dissertation-neve-grosse-siegfreid-educational-studies/
LOCATION:TBD
CATEGORIES:University Events
ATTACH;FMTTYPE=image/png:/app/uploads/defense-dissertaion-1120x630-1.png
END:VEVENT
END:VCALENDAR