BEGIN:VCALENDAR
VERSION:2.0
PRODID:-//University of Northern Colorado - ECPv6.15.12.2//NONSGML v1.0//EN
CALSCALE:GREGORIAN
METHOD:PUBLISH
X-ORIGINAL-URL:https://www.unco.edu
X-WR-CALDESC:Events for University of Northern Colorado
REFRESH-INTERVAL;VALUE=DURATION:PT1H
X-Robots-Tag:noindex
X-PUBLISHED-TTL:PT1H
BEGIN:VTIMEZONE
TZID:America/Denver
BEGIN:DAYLIGHT
TZOFFSETFROM:-0700
TZOFFSETTO:-0600
TZNAME:MDT
DTSTART:20250309T090000
END:DAYLIGHT
BEGIN:STANDARD
TZOFFSETFROM:-0600
TZOFFSETTO:-0700
TZNAME:MST
DTSTART:20251102T080000
END:STANDARD
BEGIN:DAYLIGHT
TZOFFSETFROM:-0700
TZOFFSETTO:-0600
TZNAME:MDT
DTSTART:20260308T090000
END:DAYLIGHT
BEGIN:STANDARD
TZOFFSETFROM:-0600
TZOFFSETTO:-0700
TZNAME:MST
DTSTART:20261101T080000
END:STANDARD
BEGIN:DAYLIGHT
TZOFFSETFROM:-0700
TZOFFSETTO:-0600
TZNAME:MDT
DTSTART:20270314T090000
END:DAYLIGHT
BEGIN:STANDARD
TZOFFSETFROM:-0600
TZOFFSETTO:-0700
TZNAME:MST
DTSTART:20271107T080000
END:STANDARD
END:VTIMEZONE
BEGIN:VEVENT
DTSTART;TZID=America/Denver:20260212T123000
DTEND;TZID=America/Denver:20260212T133000
DTSTAMP:20260422T095407
CREATED:20260127T222316Z
LAST-MODIFIED:20260127T222316Z
UID:10002570-1770899400-1770903000@www.unco.edu
SUMMARY:ASL Lunches
DESCRIPTION:The American Sign Language Club invites you to a relaxed\, bring-your-own-lunch signing practice! Whether you’re just starting out or looking to sharpen your skills\, this is a welcoming space to learn and connect through ASL. We’ll be meeting in the McKee Hall Student Lounge\, Room 101 East. If you have any questions\, please email Anand Raj at anand.raj@unco.edu.
URL:https://www.unco.edu/events/asl-lunches-2/
LOCATION:McKee Hall Student Lounge\, University 1200 21st St\, Greeley\, CO\, 80631\, United States
CATEGORIES:University Events
ATTACH;FMTTYPE=image/jpeg:/app/uploads/asl-lunches-1.jpg
END:VEVENT
BEGIN:VEVENT
DTSTART;TZID=America/Denver:20260212T163000
DTEND;TZID=America/Denver:20260212T183000
DTSTAMP:20260422T095407
CREATED:20251009T170057Z
LAST-MODIFIED:20260122T163445Z
UID:10002433-1770913800-1770921000@www.unco.edu
SUMMARY:The Genteel Revolutionary by Ellamaria Foley-Ray
DESCRIPTION:ON VIEW: February 2–March 4\nArt Walk & Reception: Thursday\, February 12\, 4:30-6:30 p.m. \nHow do memories of a community ancestor create a legacy of an authentic vision for future generations\, particularly those from BIPOC communities\, to reach their highest potential through public education? The Genteel Revolutionary: Embracing Dr. Rachel Bassette Noel’s Legacy invites you to explore this question through narrative quilts. Hear the story of how the first African American woman to hold public office in Colorado gained strength from her family\, community\, history and faith to help bring about the desegregation of Denver Public Schools. \n\nON VIEW IN MARIANI GALLERY\n \nSolo Show by Calista Lyon\nJanuary 20–February 26\nArt Walk & Reception: Thursday\, February 12\, 4:30-6:30 p.m.\n \nYou’ll see Calista Lyon’s work deconstruct historical and contemporary representations of landscape. She examines how images have been used to wield state\, colonial\, and imperial power to build nations. \n\nON VIEW IN OAK ROOM GALLERY\n \ngrit and gristle by Rachel Linneman\nFebruary 2–March 6 \nArt Walk & Reception: Thursday\, February 12\, 4:30-6:30 p.m.\n \nReflecting on her Appalachian upbringing\, Rachel Linnemann uses found objects to highlight blue collar and emotional labor and familial struggles. She transforms these items with costume jewelry\, gold\, pearls and opulence to raise everyday objects to a new level. This gives you the opportunity to find visual joy in topics of generational trauma that are difficult to talk about. You’ll see food as a symbol of community\, poverty\, family legacy and comfort and be invited to embrace both joy and hardship.
URL:https://www.unco.edu/events/the-genteel-revolutionary-by-ellamaria-foley-ray/
LOCATION:Lydia and Robert Ruyle Gallery\, 1051 20th St\, Greeley\, CO\, 80639
CATEGORIES:Performing and Visual Arts,University Events,Visual Arts
ATTACH;FMTTYPE=image/jpeg:/app/uploads/2025/09/GenteelRevolutionary_assets1920x1080.jpg
END:VEVENT
BEGIN:VEVENT
DTSTART;TZID=America/Denver:20260212T180000
DTEND;TZID=America/Denver:20260212T200000
DTSTAMP:20260422T095407
CREATED:20260123T174327Z
LAST-MODIFIED:20260123T181121Z
UID:10002560-1770919200-1770926400@www.unco.edu
SUMMARY:ASL Game Night
DESCRIPTION:The American Sign Language Club proudly presents Game Night! Bring your favorite games\, board games\, card games\, or anything else you enjoy. This event is open to everyone\, so feel free to invite friends and join in on the fun. If you have any questions about the event\, please email Anand Raj at anand.raj@unco.edu. \nThis event is located at the University Center in the Council Room. \nWe can’t wait to see you there!
URL:https://www.unco.edu/events/asl-game-night/
LOCATION:University Center Council Room\, 2101 10th Ave\, Greeley\, CO\, 80639\, United States
CATEGORIES:University Events
ATTACH;FMTTYPE=image/jpeg:/app/uploads/asl-games.jpg
END:VEVENT
BEGIN:VEVENT
DTSTART;TZID=America/Denver:20260213T103000
DTEND;TZID=America/Denver:20260213T160000
DTSTAMP:20260422T095407
CREATED:20260203T191056Z
LAST-MODIFIED:20260203T191056Z
UID:10002578-1770978600-1770998400@www.unco.edu
SUMMARY:Valentine's PPEC giveaway
DESCRIPTION:Sociology club members will distribute personal protection equipment and candy (PPEC) at tables in the UC near the bookstore.
URL:https://www.unco.edu/events/valentines-ppec-giveaway/
CATEGORIES:University Events
END:VEVENT
BEGIN:VEVENT
DTSTART;TZID=America/Denver:20260217T090000
DTEND;TZID=America/Denver:20260217T110000
DTSTAMP:20260422T095407
CREATED:20260213T160705Z
LAST-MODIFIED:20260213T160705Z
UID:10002601-1771318800-1771326000@www.unco.edu
SUMMARY:Oral Comprehensive Examination\, Joseph Thomas Pastina\, Sport and Exercise Science
DESCRIPTION:Joseph Thomas Pastina will take his oral comprehensive examination. \nResearch Advisor: Laura Stewart; Committee: D. Hydock\, N. Pullen\, J. Haughian
URL:https://www.unco.edu/events/oral-comprehensive-examination-joseph-thomas-pastina-sport-and-exercise-science/
LOCATION:Gunter 2700
CATEGORIES:University Events
ATTACH;FMTTYPE=image/png:/app/uploads/oral-comp-exam-1120x630-7.png
END:VEVENT
BEGIN:VEVENT
DTSTART;TZID=America/Denver:20260219T160000
DTEND;TZID=America/Denver:20260219T170000
DTSTAMP:20260422T095407
CREATED:20260217T175008Z
LAST-MODIFIED:20260217T175008Z
UID:10002611-1771516800-1771520400@www.unco.edu
SUMMARY:Alumni Career Panel: Alumni in Global Careers
DESCRIPTION:Interested in working internationally or with global organizations? Connect with alumni who have lived\, studied\, or worked abroad and are building careers in global education\, diplomacy\, development\, and beyond. Learn how they’ve navigated global opportunities and cultural differences.
URL:https://www.unco.edu/events/alumni-career-panel-alumni-in-global-careers/
CATEGORIES:University Events
ATTACH;FMTTYPE=image/jpeg:/app/uploads/ar-sp26-career-programs-1080x1080-global.jpg
LOCATION:https://unco.zoom.us/webinar/register/WN_jKkf092LSBy2YsX6TNJk7A
END:VEVENT
BEGIN:VEVENT
DTSTART;TZID=America/Denver:20260220T110000
DTEND;TZID=America/Denver:20260220T130000
DTSTAMP:20260422T095407
CREATED:20260127T220704Z
LAST-MODIFIED:20260127T220704Z
UID:10002563-1771585200-1771592400@www.unco.edu
SUMMARY:Oral Comprehensive Examination\, Danielle Rae Wall\, Special Education
DESCRIPTION:Danielle Rae Wall will take her oral comprehensive examination. \nResearch Advisor: Corey Pierce;  Committee: T. Sundeen\, T. Gershwin\, J. Cooney \nZoom link available upon request by emailing the Research Advisor in advance.
URL:https://www.unco.edu/events/oral-comprehensive-examination-danielle-rae-wall-special-education/
CATEGORIES:University Events
ATTACH;FMTTYPE=image/png:/app/uploads/oral-comp-exam-1120x630-6.png
END:VEVENT
BEGIN:VEVENT
DTSTART;TZID=America/Denver:20260223T100000
DTEND;TZID=America/Denver:20260223T120000
DTSTAMP:20260422T095407
CREATED:20260203T190629Z
LAST-MODIFIED:20260216T161906Z
UID:10002590-1771840800-1771848000@www.unco.edu
SUMMARY:Defense of Dissertation\, Keely Garren\, Educational Leadership & Policy Studies
DESCRIPTION:Keely Garren will defend her dissertation\, “The Principal-School Counselor Relationship: A Constructivist-Grounded Theory Study on How Principals Can Foster Positive Relationships with School Counselors to Improve Student Outcomes.” \nResearch Advisor: Amie Cieminski;  Committee: S. Seedorf\, R. Williams\, L. Peterson \nZoom link available upon request by emailing the Research Advisor in advance.
URL:https://www.unco.edu/events/defense-of-dissertation-keely-garren-educational-leadership-policy-studies/
CATEGORIES:University Events
ATTACH;FMTTYPE=image/png:/app/uploads/defense-dissertaion-1120x630-4.png
END:VEVENT
BEGIN:VEVENT
DTSTART;TZID=America/Denver:20260223T120000
DTEND;TZID=America/Denver:20260223T143000
DTSTAMP:20260422T095407
CREATED:20260213T160724Z
LAST-MODIFIED:20260213T160724Z
UID:10002602-1771848000-1771857000@www.unco.edu
SUMMARY:Defense of Dissertation\, Anna Keathley Bergeron\, Educational Leadership
DESCRIPTION:Anna Keathley Bergeron will defend her dissertation\, “Feedback Without Content Expertise: Exploring Teacher Perception of Effective Feedback in Teacher Evaluations with Content Mismatch.” \nResearch Advisor: Jonathan Cooney; Committee: M. Cohen\, W. Merchant\, C. McConnell \nZoom link available upon request by emailing the Research Advisor in advance.
URL:https://www.unco.edu/events/defense-of-dissertation-anna-keathley-bergeron-educational-leadership/
CATEGORIES:University Events
ATTACH;FMTTYPE=image/png:/app/uploads/defense-dissertaion-1120x630-7.png
END:VEVENT
BEGIN:VEVENT
DTSTART;TZID=America/Denver:20260225T123000
DTEND;TZID=America/Denver:20260225T133000
DTSTAMP:20260422T095407
CREATED:20260127T222551Z
LAST-MODIFIED:20260127T222551Z
UID:10002571-1772022600-1772026200@www.unco.edu
SUMMARY:ASL Lunches
DESCRIPTION:The American Sign Language Club invites you to a relaxed\, bring-your-own-lunch signing practice! Whether you’re just starting out or looking to sharpen your skills\, this is a welcoming space to learn and connect through ASL. We’ll be meeting in the McKee Hall Student Lounge\, Room 101 East. If you have any questions\, please email Anand Raj at anand.raj@unco.edu.
URL:https://www.unco.edu/events/asl-lunches-3/
LOCATION:McKee Hall Student Lounge\, University 1200 21st St\, Greeley\, CO\, 80631\, United States
CATEGORIES:University Events
ATTACH;FMTTYPE=image/jpeg:/app/uploads/asl-lunches-2.jpg
END:VEVENT
BEGIN:VEVENT
DTSTART;TZID=America/Denver:20260226T110000
DTEND;TZID=America/Denver:20260226T130000
DTSTAMP:20260422T095407
CREATED:20260224T214035Z
LAST-MODIFIED:20260224T214035Z
UID:10002620-1772103600-1772110800@www.unco.edu
SUMMARY:Oral Comprehensive Examination\, Danielle Rae Wall\, Special Education
DESCRIPTION:Danielle Rae Wall will take her oral comprehensive examination. \nResearch Advisor: Corey Pierce; Committee: T. Sundeen\, T. Gershwin\, J. Cooney \nZoom link available upon request by emailing the Research Advisor in advance.
URL:https://www.unco.edu/events/oral-comprehensive-examination-danielle-rae-wall-special-education-2/
CATEGORIES:University Events
ATTACH;FMTTYPE=image/png:/app/uploads/oral-comp-exam-1120x630-9.png
END:VEVENT
BEGIN:VEVENT
DTSTART;TZID=America/Denver:20260226T163000
DTEND;TZID=America/Denver:20260226T173000
DTSTAMP:20260422T095407
CREATED:20260224T214401Z
LAST-MODIFIED:20260224T214401Z
UID:10002617-1772123400-1772127000@www.unco.edu
SUMMARY:Webinar: Communicating with the Public: Science for the Average Bear
DESCRIPTION:Have you ever encountered someone floundering on air while trying to explain a complex scientific concept? This presentation will help you avoid that type of “cringe” moment. Here\, we will discuss how to appeal to the public using both facts and emotion to ensure better communication and understanding. Using examples from climate science and public health\, we will ensure you’re more prepared to talk to everyone around you about the importance of your work.
URL:https://www.unco.edu/events/webinar-communicating-with-the-public-science-for-the-average-bear/
CATEGORIES:University Events
ATTACH;FMTTYPE=image/jpeg:/app/uploads/UNCEventCalendar.jpg
ORGANIZER;CN="Library":MAILTO:libraries@unco.edu
END:VEVENT
BEGIN:VEVENT
DTSTART;TZID=America/Denver:20260302T153000
DTEND;TZID=America/Denver:20260302T173000
DTSTAMP:20260422T095407
CREATED:20260205T193650Z
LAST-MODIFIED:20260205T193809Z
UID:10002594-1772465400-1772472600@www.unco.edu
SUMMARY:Monfort College of Business Alumni Happy Hour
DESCRIPTION:Please join us and the Monfort College of Business for a fun afternoon Monday\, March 2. MCB is hosting a business alumni networking happy hour. \nChat with MCB Dean\, Steve Elias and network with fellow business alumni in Colorado while learning about the future of business education at UNC. Now is a great time to connect to MCB and your alumni Bear Network. \nSpace is limited so please register today! We look forward to seeing you on March 2. \nRegistration is $10 and includes hosted appetizers and one drink. \nThank you to Bank of Colorado for serving as the official sponsor for the 2026 MCB alumni events. We appreciate your support!
URL:https://www.unco.edu/events/monfort-college-of-business-alumni-happy-hour/
LOCATION:ViewHouse Centennial\, 7101 S Clinton Street\, Centennial\, Colorado\, 80112
CATEGORIES:University Events
ATTACH;FMTTYPE=image/jpeg:/app/uploads/MCBViewHouseCalendar.jpg
END:VEVENT
BEGIN:VEVENT
DTSTART;TZID=America/Denver:20260304T120000
DTEND;TZID=America/Denver:20260304T140000
DTSTAMP:20260422T095407
CREATED:20260223T164549Z
LAST-MODIFIED:20260223T164549Z
UID:10002615-1772625600-1772632800@www.unco.edu
SUMMARY:Defense of Dissertation\, Jennifer Anne Hills\, Special Education
DESCRIPTION:Jennifer Anne Hills will defend her dissertation\, “Practices and Strategies Used in Classrooms for Deaf Children with Autism.” \nResearch Advisor: Sandra Bowen; Committee: T. Gershwin\, K. Gosselin\, M. Athanasiou \nZoom link available upon request by emailing the Research Advisor in advance.
URL:https://www.unco.edu/events/defense-of-dissertation-jennifer-anne-hills-special-education/
CATEGORIES:University Events
ATTACH;FMTTYPE=image/png:/app/uploads/defense-dissertaion-1120x630-14.png
END:VEVENT
BEGIN:VEVENT
DTSTART;TZID=America/Denver:20260305T100000
DTEND;TZID=America/Denver:20260305T120000
DTSTAMP:20260422T095407
CREATED:20260203T190707Z
LAST-MODIFIED:20260203T190707Z
UID:10002591-1772704800-1772712000@www.unco.edu
SUMMARY:Defense of Dissertation\, Laura Katherine Blackhurst\, Nursing Education
DESCRIPTION:Laura Katherine Blackhurst will defend her dissertation\, “Protecting the Public: The Impact of Continued Competence Regulations on Nursing Disciplinary Rates.” \nResearch Advisor: Darcy Copeland; Committee: M. Henry\, N. Pool\, A. Cieminski \nZoom link available upon request by emailing the Research Advisor in advance.
URL:https://www.unco.edu/events/defense-of-dissertation-laura-katherine-blackhurst-nursing-education/
CATEGORIES:University Events
ATTACH;FMTTYPE=image/png:/app/uploads/defense-dissertaion-1120x630-5.png
END:VEVENT
BEGIN:VEVENT
DTSTART;TZID=America/Denver:20260305T110000
DTEND;TZID=America/Denver:20260305T130000
DTSTAMP:20260422T095407
CREATED:20260217T162104Z
LAST-MODIFIED:20260217T162104Z
UID:10002605-1772708400-1772715600@www.unco.edu
SUMMARY:Defense of Dissertation\, Bryan Valderrama Vega\, Music Performance
DESCRIPTION:Bryan Valderrama Vega will defend his dissertation\, “Vinicio Meza and the Bassoon: A Study of the Costa Rican Composer’s Chamber Music and Episodios for Bassoon and Orchestra.” \nResearch Advisor: James Hall; Committee: M. Oravitz\, A. F. Jaime Tobon\, A. Zia \nZoom link available upon request by emailing the Research Advisor in advance.
URL:https://www.unco.edu/events/defense-of-dissertation-bryan-valderrama-vega-music-performance/
CATEGORIES:University Events
ATTACH;FMTTYPE=image/png:/app/uploads/defense-dissertaion-1120x630-9.png
END:VEVENT
BEGIN:VEVENT
DTSTART;TZID=America/Denver:20260306T100000
DTEND;TZID=America/Denver:20260306T120000
DTSTAMP:20260422T095407
CREATED:20260227T214329Z
LAST-MODIFIED:20260227T214420Z
UID:10002624-1772791200-1772798400@www.unco.edu
SUMMARY:Oral Comprehensive Examination\, Saeed Fayyaz\, Applied Statistics & Research Methods
DESCRIPTION:Saeed Fayyaz will take his oral comprehensive examination. \nResearch Advisor: Han Yu;  Committee: K. Shafie Holilghi\, V. Guetler\, J. Ryan
URL:https://www.unco.edu/events/oral-comprehensive-examination-saeed-fayyaz-applied-statistics-research-methods/
LOCATION:McKee Hall\, room 519
CATEGORIES:University Events
ATTACH;FMTTYPE=image/png:/app/uploads/oral-comp-exam-1120x630-10.png
END:VEVENT
BEGIN:VEVENT
DTSTART;TZID=America/Denver:20260306T110000
DTEND;TZID=America/Denver:20260306T130000
DTSTAMP:20260422T095407
CREATED:20260217T162240Z
LAST-MODIFIED:20260218T225532Z
UID:10002606-1772794800-1772802000@www.unco.edu
SUMMARY:Defense of Dissertation\, Ivan D. Blount\, Higher Education & Student Affairs Leadership
DESCRIPTION:Ivan D. Blount will defend his dissertation\, “A Critical Constructivist Study Defies the Stereotype: Single So-Called African American Fathers Raising Children Make Meaning of their Doctoral Experience at a Predominately White Institution.” \nResearch Advisor: Randy Larkins  Committee: M. Lahman\, L.D. Ortis\, M. Kimble \nZoom link available upon request by emailing the Research Advisor in advance.
URL:https://www.unco.edu/events/defense-of-dissertation-ivan-d-blount-higher-education-student-affairs-leadership/
CATEGORIES:University Events
ATTACH;FMTTYPE=image/png:/app/uploads/defense-dissertaion-1120x630-10.png
END:VEVENT
BEGIN:VEVENT
DTSTART;TZID=America/Denver:20260309T100000
DTEND;TZID=America/Denver:20260309T120000
DTSTAMP:20260422T095407
CREATED:20260217T162340Z
LAST-MODIFIED:20260217T162340Z
UID:10002607-1773050400-1773057600@www.unco.edu
SUMMARY:Defense of Dissertation\, Julia Isabella Ybarra\, School Psychology
DESCRIPTION:Julia Isabella Ybarra will defend her dissertation\, “Wrestling with Morality: A Study on Moral Identity and Behavior in Individual Sports.” \nResearch Advisor: Robyn Hess; Committee: K. Hynes\, M. Tis\, C. Bergstrom \nZoom link available upon request by emailing the Research Advisor in advance.
URL:https://www.unco.edu/events/defense-of-dissertation-julia-isabella-ybarra-school-psychology/
CATEGORIES:University Events
ATTACH;FMTTYPE=image/png:/app/uploads/defense-dissertaion-1120x630-11.png
END:VEVENT
BEGIN:VEVENT
DTSTART;TZID=America/Denver:20260310T080000
DTEND;TZID=America/Denver:20260310T100000
DTSTAMP:20260422T095407
CREATED:20260217T162403Z
LAST-MODIFIED:20260217T162403Z
UID:10002608-1773129600-1773136800@www.unco.edu
SUMMARY:Defense of Dissertation\, Craig Hull\, Music Performance
DESCRIPTION:Craig Hull will defend his dissertation\, “The Relationship of Analysis and Performance on Henri Tomasi’s Concerto pour Trombone et Orchestre.” \nResearch Advisor: Brian Casey; Committee: C. Reddick\, W. Broadnax\, K. Gilderhus
URL:https://www.unco.edu/events/defense-of-dissertation-craig-hull-music-performance/
LOCATION:Skinner Music Library: McMillen Conference Room
CATEGORIES:University Events
ATTACH;FMTTYPE=image/png:/app/uploads/defense-dissertaion-1120x630-12.png
END:VEVENT
BEGIN:VEVENT
DTSTART;TZID=America/Denver:20260310T113000
DTEND;TZID=America/Denver:20260310T170000
DTSTAMP:20260422T095407
CREATED:20260129T222451Z
LAST-MODIFIED:20260129T235755Z
UID:10002581-1773142200-1773162000@www.unco.edu
SUMMARY:Weld Food Bank & Bear Pantry: Mobile Food Pantry
DESCRIPTION:The Mobile Food Pantry supplies our campus community with fresh produce and other food items. This event is free to all students and staff\, all you need is your Bear Number. Please bring your reusable bags to carry all your food items.If you have any questions please email us at bear.pantry@unco.edu.
URL:https://www.unco.edu/events/weld-food-bank-bear-pantry-mobile-food-pantry/2026-03-10/
LOCATION:Campus Commons C-Lot\, 1051 22nd St\, Greeley\, CO\, 80639\, United States
CATEGORIES:University Events
ATTACH;FMTTYPE=image/jpeg:/app/uploads/wm_bear_pantry_food_bank_distribution_24_1-scaled.jpg
ORGANIZER;CN="Bear Pantry":MAILTO:bear.pantry@unco.edu
END:VEVENT
BEGIN:VEVENT
DTSTART;TZID=America/Denver:20260311T130000
DTEND;TZID=America/Denver:20260311T150000
DTSTAMP:20260422T095407
CREATED:20260217T162456Z
LAST-MODIFIED:20260217T162456Z
UID:10002610-1773234000-1773241200@www.unco.edu
SUMMARY:Defense of Dissertation\, Ashton Clarkson\, Nursing Education
DESCRIPTION:Ashton Clarkson will defend her dissertation\, “Exploring Predictors of First-Time National Council Licensure Examination for Registered Nurse Success in Bachelor of Science in Nursing Programs to Determine the Need for Remediation.” \nResearch Advisor: Carlo Parker; Committee: M. Henry\, K. Dunemn\, C. Bergstrom \nZoom link available upon request by emailing the Research Advisor in advance.
URL:https://www.unco.edu/events/defense-of-dissertation-ashton-clarkson-nursing-education/
CATEGORIES:University Events
ATTACH;FMTTYPE=image/png:/app/uploads/defense-dissertaion-1120x630-13.png
END:VEVENT
BEGIN:VEVENT
DTSTART;TZID=America/Denver:20260311T170000
DTEND;TZID=America/Denver:20260311T183000
DTSTAMP:20260422T095407
CREATED:20260219T190658Z
LAST-MODIFIED:20260219T211734Z
UID:10002612-1773248400-1773253800@www.unco.edu
SUMMARY:Alumni Career Panel: Recent Graduate Insights
DESCRIPTION:Wondering what life after college really looks like? This panel brings together recent grads to reflect on their transitions into work\, grad school\, and adulting. Get candid advice and encouragement from those who were in your shoes not too long ago. \nThis event will be a two-part event\, a 45-minute alumni career panel and a 45-minute networking session. We will be providing light refreshments!
URL:https://www.unco.edu/events/alumni-career-panel-recent-graduate-insights/
LOCATION:University Center Columbine Suites\, 2101 10th Ave\, Greeley\, CO\, 80639\, United States
CATEGORIES:University Events
ATTACH;FMTTYPE=image/jpeg:/app/uploads/ar-sp26-career-programs-1080x1080-grads.jpg
END:VEVENT
BEGIN:VEVENT
DTSTART;TZID=America/Denver:20260312T090000
DTEND;TZID=America/Denver:20260312T110000
DTSTAMP:20260422T095407
CREATED:20260217T162438Z
LAST-MODIFIED:20260217T162438Z
UID:10002609-1773306000-1773313200@www.unco.edu
SUMMARY:Oral Comprehensive Examination\, Paige Elizabeth Gwaltney\, School Psychology
DESCRIPTION:Paige Elizabeth Gwaltney will take her oral comprehensive examination. \nResearch Advisor: Keeley Hynes; Committee: J. Anderson\, B. Nicholson\, W. Merchant
URL:https://www.unco.edu/events/oral-comprehensive-examination-paige-elizabeth-gwaltney-school-psychology/
LOCATION:McKee Hall\, room 201
CATEGORIES:University Events
ATTACH;FMTTYPE=image/png:/app/uploads/oral-comp-exam-1120x630-8.png
END:VEVENT
BEGIN:VEVENT
DTSTART;TZID=America/Denver:20260312T123000
DTEND;TZID=America/Denver:20260312T133000
DTSTAMP:20260422T095408
CREATED:20260127T222721Z
LAST-MODIFIED:20260127T222721Z
UID:10002572-1773318600-1773322200@www.unco.edu
SUMMARY:ASL Lunches
DESCRIPTION:The American Sign Language Club invites you to a relaxed\, bring-your-own-lunch signing practice! Whether you’re just starting out or looking to sharpen your skills\, this is a welcoming space to learn and connect through ASL. We’ll be meeting in the McKee Hall Student Lounge\, Room 101 East. If you have any questions\, please email Anand Raj at anand.raj@unco.edu.
URL:https://www.unco.edu/events/asl-lunches-4/
LOCATION:McKee Hall Student Lounge\, University 1200 21st St\, Greeley\, CO\, 80631\, United States
CATEGORIES:University Events
ATTACH;FMTTYPE=image/jpeg:/app/uploads/asl-lunches-3.jpg
END:VEVENT
BEGIN:VEVENT
DTSTART;TZID=America/Denver:20260312T133000
DTEND;TZID=America/Denver:20260312T153000
DTSTAMP:20260422T095408
CREATED:20260227T214511Z
LAST-MODIFIED:20260227T214511Z
UID:10002625-1773322200-1773329400@www.unco.edu
SUMMARY:Oral Comprehensive Examination\, Leanna Lawson\, Sport & Exercise Science
DESCRIPTION:Leanna Lawson will take her oral comprehensive examination. \nResearch Advisor: Brian Dauenhauer; Committee: J. Krause\, M. Stellino\, H.-Y. Ku
URL:https://www.unco.edu/events/oral-comprehensive-examination-leanna-lawson-sport-exercise-science/
LOCATION:Gunter Hall\, room 1760
CATEGORIES:University Events
ATTACH;FMTTYPE=image/png:/app/uploads/oral-comp-exam-1120x630-11.png
END:VEVENT
BEGIN:VEVENT
DTSTART;TZID=America/Denver:20260312T140000
DTEND;TZID=America/Denver:20260312T160000
DTSTAMP:20260422T095408
CREATED:20260302T172241Z
LAST-MODIFIED:20260302T172241Z
UID:10002626-1773324000-1773331200@www.unco.edu
SUMMARY:Defense of Dissertation\, Daniella Isabel Angulo Martinez\, Music Performance
DESCRIPTION:Daniella Isabel Angulo Martinez will defend her dissertation\, “Reconsidering the Undergraduate Viola Canon: A Skill-Based Framework for Repertoire Expansion.” \nResearch Advisor: Sarah Off-Fixmer & Romina Monsanto Colina; Committee: R. Krämer\, C. Wesley \nZoom link available upon request by emailing the Research Advisor in advance.
URL:https://www.unco.edu/events/defense-of-dissertation-daniella-isabel-angulo-martinez-music-performance/
CATEGORIES:University Events
ATTACH;FMTTYPE=image/png:/app/uploads/defense-dissertaion-1120x630-17.png
END:VEVENT
BEGIN:VEVENT
DTSTART;TZID=America/Denver:20260312T180000
DTEND;TZID=America/Denver:20260312T200000
DTSTAMP:20260422T095408
CREATED:20260127T220808Z
LAST-MODIFIED:20260127T220808Z
UID:10002567-1773338400-1773345600@www.unco.edu
SUMMARY:ASL Game Night
DESCRIPTION:The American Sign Language Club proudly presents Game Night! Bring your favorite games\, board games\, card games\, or anything else you enjoy. This event is open to everyone\, so feel free to invite friends and join in on the fun. If you have any questions about the event\, please email Anand Raj at anand.raj@unco.edu. \nThis event is located at the University Center in the Aspen A & B Room. \nWe can’t wait to see you there!
URL:https://www.unco.edu/events/asl-game-night-2/
LOCATION:University Center Aspen Room\, 2101 10th Ave\, Greeley\, CO\, 80639\, United States
CATEGORIES:University Events
ATTACH;FMTTYPE=image/jpeg:/app/uploads/asl-games-1.jpg
END:VEVENT
BEGIN:VEVENT
DTSTART;TZID=America/Denver:20260313T083000
DTEND;TZID=America/Denver:20260313T090000
DTSTAMP:20260422T095408
CREATED:20260304T224023Z
LAST-MODIFIED:20260304T224023Z
UID:10002630-1773390600-1773392400@www.unco.edu
SUMMARY:Defense of Scholarly Project\, Elizabeth Nicole Wood\, Audiology
DESCRIPTION:Elizabeth Nicole Wood will defend her scholarly project\, “Policy Considerations for Universal Congenital Cytomegalovirus Screening in Colorado: Insights from Minnesota’s Model.” \nResearch Advisor: Hannah Glick;  Committee: D. Erdbruegger\, C. Raaz
URL:https://www.unco.edu/events/defense-of-scholarly-project-elizabeth-nicole-wood-audiology/
LOCATION:Kepner Hall\, room 2050
CATEGORIES:University Events
ATTACH;FMTTYPE=image/png:/app/uploads/scholarly-project-1120x630-1.png
END:VEVENT
BEGIN:VEVENT
DTSTART;TZID=America/Denver:20260313T090000
DTEND;TZID=America/Denver:20260313T093000
DTSTAMP:20260422T095408
CREATED:20260304T224047Z
LAST-MODIFIED:20260304T224047Z
UID:10002631-1773392400-1773394200@www.unco.edu
SUMMARY:Defense of Scholarly Project\, Averie Mae Navarette\, Audiology
DESCRIPTION:Averie Mae Navarette will defend her scholarly project\, “Sensitive Periods and Surgical Considerations in Early Cochlear Implantation: Implications of FDA Approval to Lower Age of Implantation from 9 Months to 7 Months.” \nResearch Advisor: Hannah Glick; Committee: C. Raaz\, D. Erdbruegger
URL:https://www.unco.edu/events/defense-of-scholarly-project-averie-mae-navarette-audiology/
LOCATION:Kepner Hall\, room 2050
CATEGORIES:University Events
ATTACH;FMTTYPE=image/png:/app/uploads/scholarly-project-1120x630-2.png
END:VEVENT
END:VCALENDAR