BEGIN:VCALENDAR
VERSION:2.0
PRODID:-//University of Northern Colorado - ECPv6.15.12.2//NONSGML v1.0//EN
CALSCALE:GREGORIAN
METHOD:PUBLISH
X-WR-CALNAME:University of Northern Colorado
X-ORIGINAL-URL:https://www.unco.edu
X-WR-CALDESC:Events for University of Northern Colorado
REFRESH-INTERVAL;VALUE=DURATION:PT1H
X-Robots-Tag:noindex
X-PUBLISHED-TTL:PT1H
BEGIN:VTIMEZONE
TZID:America/Denver
BEGIN:DAYLIGHT
TZOFFSETFROM:-0700
TZOFFSETTO:-0600
TZNAME:MDT
DTSTART:20250309T090000
END:DAYLIGHT
BEGIN:STANDARD
TZOFFSETFROM:-0600
TZOFFSETTO:-0700
TZNAME:MST
DTSTART:20251102T080000
END:STANDARD
BEGIN:DAYLIGHT
TZOFFSETFROM:-0700
TZOFFSETTO:-0600
TZNAME:MDT
DTSTART:20260308T090000
END:DAYLIGHT
BEGIN:STANDARD
TZOFFSETFROM:-0600
TZOFFSETTO:-0700
TZNAME:MST
DTSTART:20261101T080000
END:STANDARD
BEGIN:DAYLIGHT
TZOFFSETFROM:-0700
TZOFFSETTO:-0600
TZNAME:MDT
DTSTART:20270314T090000
END:DAYLIGHT
BEGIN:STANDARD
TZOFFSETFROM:-0600
TZOFFSETTO:-0700
TZNAME:MST
DTSTART:20271107T080000
END:STANDARD
END:VTIMEZONE
BEGIN:VEVENT
DTSTART;TZID=America/Denver:20260505T140000
DTEND;TZID=America/Denver:20260505T160000
DTSTAMP:20260420T220923
CREATED:20260414T183138Z
LAST-MODIFIED:20260414T183138Z
UID:10002713-1777989600-1777996800@www.unco.edu
SUMMARY:Defense of Dissertation\, Bryan Eric Westman\, Technology Innovation and Pedagogy
DESCRIPTION:Bryan Eric Westman will defend his dissertation\, “Exploring High School Students’ Perceptions of Game-Based Learning in Teaching the Four Cs with Generative AI: A Case Study.” \nResearch Advisors: Matthew Farber & Heng-Yu Ku; Committee: C. Kyser\, M. Lahman \nZoom link available upon request by emailing the Research Advisor in advance.
URL:https://www.unco.edu/events/defense-of-dissertation-bryan-eric-westman-technology-innovation-and-pedagogy/
LOCATION:CO
CATEGORIES:University Events
ATTACH;FMTTYPE=image/png:/app/uploads/defense-dissertaion-1120x630-32.png
END:VEVENT
BEGIN:VEVENT
DTSTART;TZID=America/Denver:20260505T150000
DTEND;TZID=America/Denver:20260505T170000
DTSTAMP:20260420T220923
CREATED:20260417T170939Z
LAST-MODIFIED:20260417T170939Z
UID:10002717-1777993200-1778000400@www.unco.edu
SUMMARY:Oral Comprehensive Examination\, Emily Kate Nickerson\, Educational Leadership and Policy Studies
DESCRIPTION:Emily Kate Nickerson will take her oral comprehensive examination.\n\nResearch Advisor: Amie Cieminski; Committee: M. Cohen\, T. Gershwin\, K. Hynes\n\nZoom link available upon request by emailing the Research Advisor in advance.
URL:https://www.unco.edu/events/oral-comprehensive-examination-emily-kate-nickerson-educational-leadership-and-policy-studies/
LOCATION:CO
CATEGORIES:University Events
ATTACH;FMTTYPE=image/png:/app/uploads/oral-comp-exam-1120x630-42.png
END:VEVENT
BEGIN:VEVENT
DTSTART;TZID=America/Denver:20260506T100000
DTEND;TZID=America/Denver:20260506T123000
DTSTAMP:20260420T220923
CREATED:20260406T160307Z
LAST-MODIFIED:20260406T160307Z
UID:10002698-1778061600-1778070600@www.unco.edu
SUMMARY:Oral Comprehensive Examination\, Carianna Monique Keyser\, Biological Education
DESCRIPTION:Carianna Monique Keyser will take her oral comprehensive examination. \nResearch Advisor: Nicholas Pullen; Committee: Y. Han\, J. Haughian\, L. Stewart
URL:https://www.unco.edu/events/oral-comprehensive-examination-carianna-monique-keyser-biological-education/
LOCATION:Ross Hall\, room 2480B
CATEGORIES:University Events
ATTACH;FMTTYPE=image/png:/app/uploads/oral-comp-exam-1120x630-36.png
END:VEVENT
BEGIN:VEVENT
DTSTART;TZID=America/Denver:20260506T130000
DTEND;TZID=America/Denver:20260506T150000
DTSTAMP:20260420T220923
CREATED:20260414T184511Z
LAST-MODIFIED:20260414T184511Z
UID:10002705-1778072400-1778079600@www.unco.edu
SUMMARY:Defense of Dissertation\, Cristina Marie Barros\, Biological Education
DESCRIPTION:Cristina Maria Barros will defend her dissertation\, “Song Function in Female Birds; Using the Red-winged Blackbird as a Model.”\n\nResearch Advisor: Lauryn Benedict; Committee: S. Franklin\, M. McGlaughlin\, C. Romulo
URL:https://www.unco.edu/events/defense-of-dissertation-cristina-marie-barros-biological-education/
LOCATION:Ross Hall\, room 2287
CATEGORIES:University Events
ATTACH;FMTTYPE=image/png:/app/uploads/defense-dissertaion-1120x630-30.png
END:VEVENT
BEGIN:VEVENT
DTSTART;TZID=America/Denver:20260507T120000
DTEND;TZID=America/Denver:20260507T140000
DTSTAMP:20260420T220923
CREATED:20260417T170956Z
LAST-MODIFIED:20260417T170956Z
UID:10002719-1778155200-1778162400@www.unco.edu
SUMMARY:Defense of Dissertation\, Julie Ann Bell\, Sport & Exercise Science: Physical Education & Physical Activity Leadership
DESCRIPTION:Julie Ann Bell will defend her dissertation\, “Exploration of Physical Activity and Movement Integration in Early Childhood Teacher Preparation Programs.” \nResearch Advisor: Jennifer Krause; Committee: B. Dauenhauer\, D. Cox\, J. Kirshner
URL:https://www.unco.edu/events/defense-of-dissertation-julie-ann-bell-sport-exercise-science-physical-education-physical-activity-leadership/
LOCATION:Gunter Hall\, room 2600
CATEGORIES:University Events
ATTACH;FMTTYPE=image/png:/app/uploads/defense-dissertaion-1120x630-35.png
END:VEVENT
BEGIN:VEVENT
DTSTART;TZID=America/Denver:20260508T080000
DTEND;TZID=America/Denver:20260508T123000
DTSTAMP:20260420T220923
CREATED:20260401T154737Z
LAST-MODIFIED:20260414T213042Z
UID:10002689-1778227200-1778243400@www.unco.edu
SUMMARY:Master of Public Health Forum
DESCRIPTION:The Capstone projects presented are the culminating experiences of students in the Master of Public Health program at the Colorado School of Public Health
URL:https://www.unco.edu/events/master-of-public-health-forum/
LOCATION:University Center Columbine Suites\, 2101 10th Ave\, Greeley\, CO\, 80639\, United States
CATEGORIES:University Events
ORGANIZER;CN="ColoradoSPH":MAILTO:publichealth@unco.edu
END:VEVENT
BEGIN:VEVENT
DTSTART;TZID=America/Denver:20260508T180000
DTEND;TZID=America/Denver:20260508T200000
DTSTAMP:20260420T220923
CREATED:20260403T181152Z
LAST-MODIFIED:20260403T181152Z
UID:10002692-1778263200-1778270400@www.unco.edu
SUMMARY:Spring Commencement Graduate Ceremony
DESCRIPTION:Doctoral\, Specialist and Master’s students will be graduating on May 8th\, from 6:00 pm – 8:00 pm. \nDoors open one hour prior to each ceremony. The west entrance\, directly off the main parking lot\, closes 15 minutes prior to each ceremony. Guests will then be directed to the north entrance. Tickets are required and are acquired through the graduate. \nTickets are required for guests to attend the Commencement Ceremonies. Graduating students do not require a ticket. Tickets are assigned to specific ceremonies\, are general admission and valid for one guest per ticket. Tickets are issued at no charge\, and the sale of tickets is prohibited. All tickets will be distributed to graduates electronically via BearMail accounts. Guests must obtain tickets from their graduates in advance of the ceremony. \nTickets will not be available at the ceremony entrance door\, and guests without a ticket will not be permitted entry to the arena. \nTickets will not be available at the ceremony entrance door.
URL:https://www.unco.edu/events/spring-commencement-graduate-ceremony/
LOCATION:Bank of Colorado arena\, 270 Ales Drive\, Greeley\, CO\, 80631\, United States
CATEGORIES:University Events
ATTACH;FMTTYPE=image/jpeg:/app/uploads/CommGradPhoto1.jpg
END:VEVENT
BEGIN:VEVENT
DTSTART;TZID=America/Denver:20260509T090000
DTEND;TZID=America/Denver:20260509T110000
DTSTAMP:20260420T220923
CREATED:20260403T190150Z
LAST-MODIFIED:20260403T190157Z
UID:10002691-1778317200-1778324400@www.unco.edu
SUMMARY:Spring Commencement NHS Ceremony
DESCRIPTION:Students from the NHS College will be graduating in the Bank of Colorado Arena on May 9th from 9:00 am – 11:00 am. \nDoors open one hour prior to each ceremony. The west entrance\, directly off the main parking lot\, closes 15 minutes prior to each ceremony. Guests will then be directed to the north entrance. Guest tickets are required and are acquired through the graduate. \n*Tickets are required for guests to attend the Commencement Ceremonies. Graduating students do not require a ticket. Tickets are assigned to specific ceremonies\, are general admission and valid for one guest per ticket. Tickets are issued at no charge\, and the sale of tickets is prohibited. All tickets will be distributed to graduates electronically via BearMail accounts. Guests must obtain tickets from their graduates in advance of the ceremony. \nTickets will not be available at the ceremony entrance door\, and guests without a ticket will not be permitted entry to the arena. \nTickets will not be available at the ceremony entrance door.
URL:https://www.unco.edu/events/spring-commencement-nhs-ceremony/
LOCATION:Bank of Colorado arena\, 270 Ales Drive\, Greeley\, CO\, 80631\, United States
CATEGORIES:University Events
ATTACH;FMTTYPE=image/jpeg:/app/uploads/CommGradPhoto2.jpg
END:VEVENT
BEGIN:VEVENT
DTSTART;TZID=America/Denver:20260509T123000
DTEND;TZID=America/Denver:20260509T143000
DTSTAMP:20260420T220923
CREATED:20260403T190226Z
LAST-MODIFIED:20260403T190226Z
UID:10002693-1778329800-1778337000@www.unco.edu
SUMMARY:Spring HSS and MCB Commencement Ceremony
DESCRIPTION:The students of the HSS and MCB Colleges will be graduating on May 9th\, from 12:30 pm – 2:30 pm. \nDoors open one hour prior to each ceremony. The west entrance\, directly off the main parking lot\, closes 15 minutes prior to each ceremony. Guests will then be directed to the north entrance. Tickets are required and are acquired through the graduate. \nTickets are required for guests to attend the Commencement Ceremonies. Graduating students do not require a ticket. Tickets are assigned to specific ceremonies\, are general admission and valid for one guest per ticket. Tickets are issued at no charge\, and the sale of tickets is prohibited. All tickets will be distributed to graduates electronically via BearMail accounts. Guests must obtain tickets from their graduates in advance of the ceremony. \nTickets will not be available at the ceremony entrance door\, and guests without a ticket will not be permitted entry to the arena. \nTickets will not be available at the ceremony entrance door.
URL:https://www.unco.edu/events/spring-hss-and-mcb-commencement-ceremony/
LOCATION:Bank of Colorado arena\, 270 Ales Drive\, Greeley\, CO\, 80631\, United States
CATEGORIES:University Events
ATTACH;FMTTYPE=image/jpeg:/app/uploads/CommGradPhoto3.jpg
END:VEVENT
BEGIN:VEVENT
DTSTART;TZID=America/Denver:20260509T153000
DTEND;TZID=America/Denver:20260509T173000
DTSTAMP:20260420T220923
CREATED:20260403T190301Z
LAST-MODIFIED:20260403T190301Z
UID:10002694-1778340600-1778347800@www.unco.edu
SUMMARY:Spring EBS and PVA Commencement Ceremony
DESCRIPTION:The students of the EBS and PVA Colleges will be graduating on May 9th\, from 3:30 pm – 5:30 pm. \nDoors open one hour prior to each ceremony. The west entrance\, directly off the main parking lot\, closes 15 minutes prior to each ceremony. Guests will then be directed to the north entrance. Tickets are required and are acquired through the graduate. \nTickets are required for guests to attend the Commencement Ceremonies. Graduating students do not require a ticket. Tickets are assigned to specific ceremonies\, are general admission and valid for one guest per ticket. Tickets are issued at no charge\, and the sale of tickets is prohibited. All tickets will be distributed to graduates electronically via BearMail accounts. Guests must obtain tickets from their graduates in advance of the ceremony. \nTickets will not be available at the ceremony entrance door\, and guests without a ticket will not be permitted entry to the arena. \nTickets will not be available at the ceremony entrance door.
URL:https://www.unco.edu/events/spring-ebs-and-pva-commencement-ceremony/
LOCATION:Bank of Colorado arena\, 270 Ales Drive\, Greeley\, CO\, 80631\, United States
CATEGORIES:University Events
ATTACH;FMTTYPE=image/jpeg:/app/uploads/CommGradPhoto4.jpg
END:VEVENT
BEGIN:VEVENT
DTSTART;TZID=America/Denver:20260512T120000
DTEND;TZID=America/Denver:20260512T140000
DTSTAMP:20260420T220923
CREATED:20260414T183235Z
LAST-MODIFIED:20260414T183235Z
UID:10002712-1778587200-1778594400@www.unco.edu
SUMMARY:Oral Comprehensive Examination\, Anda Zhou\, Counseling Psychology
DESCRIPTION:Anda Zhou will take their oral comprehensive examination.\n\nResearch Advisor: Lu Tian; Committee: K. Parnell\, B. Nicholson\, W. Woody\n\nZoom link available upon request by emailing the Research Advisor in advance.
URL:https://www.unco.edu/events/oral-comprehensive-examination-anda-zhou-counseling-psychology/
LOCATION:CO
CATEGORIES:University Events
ATTACH;FMTTYPE=image/png:/app/uploads/oral-comp-exam-1120x630-41.png
END:VEVENT
BEGIN:VEVENT
DTSTART;TZID=America/Denver:20260514T090000
DTEND;TZID=America/Denver:20260514T110000
DTSTAMP:20260420T220923
CREATED:20260414T183155Z
LAST-MODIFIED:20260414T183155Z
UID:10002708-1778749200-1778756400@www.unco.edu
SUMMARY:Oral Comprehensive Examination\, Carrie Frances Barr\, Nursing Education
DESCRIPTION:Carrie Frances Barr will take her oral comprehensive examination.\n\nResearch Advisor: Natalie Pool; Committee: M. Henry\, C. Parker\, T. Buckner\n\nZoom link available upon request by emailing the Research Advisor in advance.
URL:https://www.unco.edu/events/oral-comprehensive-examination-carrie-frances-barr-nursing-education/
LOCATION:CO
CATEGORIES:University Events
ATTACH;FMTTYPE=image/png:/app/uploads/oral-comp-exam-1120x630-40.png
END:VEVENT
BEGIN:VEVENT
DTSTART;TZID=America/Denver:20260514T090000
DTEND;TZID=America/Denver:20260514T110000
DTSTAMP:20260420T220923
CREATED:20260417T171722Z
LAST-MODIFIED:20260417T171722Z
UID:10002716-1778749200-1778756400@www.unco.edu
SUMMARY:Defense of Dissertation\, Jessica Lewis\, Counseling Psychology
DESCRIPTION:Jessica Lewis will defend her dissertation\, “Exposure to Traumatic Events\, Social Support\, and Professional Quality of Life in Law Enforcement Officers.” \nResearch Advisor: Brian Johnson; Committee: A. Vaughan\, K. Ward\, N. Karlin \nZoom link available upon request by emailing the Research Advisor in advance.
URL:https://www.unco.edu/events/defense-of-dissertation-jessica-lewis-counseling-psychology/
LOCATION:CO
CATEGORIES:University Events
ATTACH;FMTTYPE=image/png:/app/uploads/defense-dissertaion-1120x630-33.png
END:VEVENT
BEGIN:VEVENT
DTSTART;TZID=America/Denver:20260707T113000
DTEND;TZID=America/Denver:20260707T170000
DTSTAMP:20260420T220923
CREATED:20260129T222451Z
LAST-MODIFIED:20260129T235755Z
UID:10002583-1783423800-1783443600@www.unco.edu
SUMMARY:Weld Food Bank & Bear Pantry: Mobile Food Pantry
DESCRIPTION:The Mobile Food Pantry supplies our campus community with fresh produce and other food items. This event is free to all students and staff\, all you need is your Bear Number. Please bring your reusable bags to carry all your food items.If you have any questions please email us at bear.pantry@unco.edu.
URL:https://www.unco.edu/events/weld-food-bank-bear-pantry-mobile-food-pantry/2026-07-07/
LOCATION:Campus Commons C-Lot\, 1051 22nd St\, Greeley\, CO\, 80639\, United States
CATEGORIES:University Events
ATTACH;FMTTYPE=image/jpeg:/app/uploads/wm_bear_pantry_food_bank_distribution_24_1-scaled.jpg
ORGANIZER;CN="Bear Pantry":MAILTO:bear.pantry@unco.edu
END:VEVENT
BEGIN:VEVENT
DTSTART;TZID=America/Denver:20260719T131000
DTEND;TZID=America/Denver:20260719T171000
DTSTAMP:20260420T220923
CREATED:20260330T150432Z
LAST-MODIFIED:20260414T145009Z
UID:10002679-1784466600-1784481000@www.unco.edu
SUMMARY:UNC Day at the Rockies
DESCRIPTION:Join us for UNC Day at the Rockies\, a fun-filled day at the ballpark with UNC alumni\, friends and family. \nTickets start at $40 and include a limited-edition UNC Bears-themed Rockies hat with the purchase of a special UNC ticket package. \n*New this year — the Pregame Picnic Package is available for all ticket levels! \nGet ready for a day of baseball\, community and UNC pride.
URL:https://www.unco.edu/events/unc-day-at-the-rockies/
LOCATION:Coors Field\, 2001 Blake St.\, Denver\, CO\, 80205\, United States
CATEGORIES:University Events
ATTACH;FMTTYPE=image/jpeg:/app/uploads/ar-rockies-day-1200x300-1.jpg
END:VEVENT
BEGIN:VEVENT
DTSTART;TZID=America/Denver:20260908T113000
DTEND;TZID=America/Denver:20260908T170000
DTSTAMP:20260420T220923
CREATED:20260129T222451Z
LAST-MODIFIED:20260129T235755Z
UID:10002584-1788867000-1788886800@www.unco.edu
SUMMARY:Weld Food Bank & Bear Pantry: Mobile Food Pantry
DESCRIPTION:The Mobile Food Pantry supplies our campus community with fresh produce and other food items. This event is free to all students and staff\, all you need is your Bear Number. Please bring your reusable bags to carry all your food items.If you have any questions please email us at bear.pantry@unco.edu.
URL:https://www.unco.edu/events/weld-food-bank-bear-pantry-mobile-food-pantry/2026-09-08/
LOCATION:Campus Commons C-Lot\, 1051 22nd St\, Greeley\, CO\, 80639\, United States
CATEGORIES:University Events
ATTACH;FMTTYPE=image/jpeg:/app/uploads/wm_bear_pantry_food_bank_distribution_24_1-scaled.jpg
ORGANIZER;CN="Bear Pantry":MAILTO:bear.pantry@unco.edu
END:VEVENT
BEGIN:VEVENT
DTSTART;TZID=America/Denver:20261013T113000
DTEND;TZID=America/Denver:20261013T170000
DTSTAMP:20260420T220923
CREATED:20260129T222451Z
LAST-MODIFIED:20260129T235755Z
UID:10002585-1791891000-1791910800@www.unco.edu
SUMMARY:Weld Food Bank & Bear Pantry: Mobile Food Pantry
DESCRIPTION:The Mobile Food Pantry supplies our campus community with fresh produce and other food items. This event is free to all students and staff\, all you need is your Bear Number. Please bring your reusable bags to carry all your food items.If you have any questions please email us at bear.pantry@unco.edu.
URL:https://www.unco.edu/events/weld-food-bank-bear-pantry-mobile-food-pantry/2026-10-13/
LOCATION:Campus Commons C-Lot\, 1051 22nd St\, Greeley\, CO\, 80639\, United States
CATEGORIES:University Events
ATTACH;FMTTYPE=image/jpeg:/app/uploads/wm_bear_pantry_food_bank_distribution_24_1-scaled.jpg
ORGANIZER;CN="Bear Pantry":MAILTO:bear.pantry@unco.edu
END:VEVENT
BEGIN:VEVENT
DTSTART;TZID=America/Denver:20261110T113000
DTEND;TZID=America/Denver:20261110T170000
DTSTAMP:20260420T220923
CREATED:20260129T222451Z
LAST-MODIFIED:20260129T235755Z
UID:10002586-1794310200-1794330000@www.unco.edu
SUMMARY:Weld Food Bank & Bear Pantry: Mobile Food Pantry
DESCRIPTION:The Mobile Food Pantry supplies our campus community with fresh produce and other food items. This event is free to all students and staff\, all you need is your Bear Number. Please bring your reusable bags to carry all your food items.If you have any questions please email us at bear.pantry@unco.edu.
URL:https://www.unco.edu/events/weld-food-bank-bear-pantry-mobile-food-pantry/2026-11-10/
LOCATION:Campus Commons C-Lot\, 1051 22nd St\, Greeley\, CO\, 80639\, United States
CATEGORIES:University Events
ATTACH;FMTTYPE=image/jpeg:/app/uploads/wm_bear_pantry_food_bank_distribution_24_1-scaled.jpg
ORGANIZER;CN="Bear Pantry":MAILTO:bear.pantry@unco.edu
END:VEVENT
END:VCALENDAR