BEGIN:VCALENDAR
VERSION:2.0
PRODID:-//University of Northern Colorado - ECPv6.15.12.2//NONSGML v1.0//EN
CALSCALE:GREGORIAN
METHOD:PUBLISH
X-ORIGINAL-URL:https://www.unco.edu
X-WR-CALDESC:Events for University of Northern Colorado
REFRESH-INTERVAL;VALUE=DURATION:PT1H
X-Robots-Tag:noindex
X-PUBLISHED-TTL:PT1H
BEGIN:VTIMEZONE
TZID:America/Denver
BEGIN:DAYLIGHT
TZOFFSETFROM:-0700
TZOFFSETTO:-0600
TZNAME:MDT
DTSTART:20250309T090000
END:DAYLIGHT
BEGIN:STANDARD
TZOFFSETFROM:-0600
TZOFFSETTO:-0700
TZNAME:MST
DTSTART:20251102T080000
END:STANDARD
BEGIN:DAYLIGHT
TZOFFSETFROM:-0700
TZOFFSETTO:-0600
TZNAME:MDT
DTSTART:20260308T090000
END:DAYLIGHT
BEGIN:STANDARD
TZOFFSETFROM:-0600
TZOFFSETTO:-0700
TZNAME:MST
DTSTART:20261101T080000
END:STANDARD
BEGIN:DAYLIGHT
TZOFFSETFROM:-0700
TZOFFSETTO:-0600
TZNAME:MDT
DTSTART:20270314T090000
END:DAYLIGHT
BEGIN:STANDARD
TZOFFSETFROM:-0600
TZOFFSETTO:-0700
TZNAME:MST
DTSTART:20271107T080000
END:STANDARD
END:VTIMEZONE
BEGIN:VEVENT
DTSTART;TZID=America/Denver:20260328T140000
DTEND;TZID=America/Denver:20260328T153000
DTSTAMP:20260420T025125
CREATED:20260116T000101Z
LAST-MODIFIED:20260116T013901Z
UID:10002505-1774706400-1774711800@www.unco.edu
SUMMARY:Gimme Please!
DESCRIPTION:Theatre for the Very Young in Norton Theatre\nCreated by Megan Alrutz & Samantha Provenzano\, Alliance Theatre  \nA play about the evolving nature of friendship\, Gimme Please! follows the journey of two friends—from initial meeting to lasting connection. You’re invited to watch and explore as the two friends pretend\, provoke and persist in getting what they want and need from the world and each other.
URL:https://www.unco.edu/events/gimme-please/
LOCATION:Norton Theatre\, 1828 10th Ave\, Greeley\, CO\, 80631
CATEGORIES:Performing and Visual Arts,Theatre
ATTACH;FMTTYPE=image/jpeg:/app/uploads/GimmePlease1130x400.jpg
END:VEVENT
BEGIN:VEVENT
DTSTART;TZID=America/Denver:20260308T140000
DTEND;TZID=America/Denver:20260308T160000
DTSTAMP:20260420T025125
CREATED:20251120T175247Z
LAST-MODIFIED:20251120T175247Z
UID:10002449-1772978400-1772985600@www.unco.edu
SUMMARY:Sunday in the Park with George
DESCRIPTION:Sunday in the Park with George is a stunning original musical inspired by the life of artist Georges Seurat and his masterpiece\, A Sunday Afternoon on the Island of La Grande Jatte. With a brilliant score by Stephen Sondheim and a deeply moving story about art\, love and legacy\, this Pulitzer Prize-winning show explores the sacrifices of creativity and the timeless struggle to find connection through creation. A must-see for lovers of art and theater! \nBook by James Lapine • Music by Stephen Sondheim \nDirected by Ryan Driscoll & Anne M Toewe • Musical Direction by Ryan Driscoll
URL:https://www.unco.edu/events/sunday-in-the-park-with-george/2026-03-08/
LOCATION:Langworthy Theatre\, 1710 9th Ave\, Greeley\, CO\, 80631\, United States
CATEGORIES:Performing and Visual Arts,Theatre
ATTACH;FMTTYPE=image/jpeg:/app/uploads/2025/09/SundayInThePark_assets1920x1080.jpg
END:VEVENT
BEGIN:VEVENT
DTSTART;TZID=America/Denver:20260307T193000
DTEND;TZID=America/Denver:20260307T213000
DTSTAMP:20260420T025125
CREATED:20251120T175247Z
LAST-MODIFIED:20251120T175247Z
UID:10002448-1772911800-1772919000@www.unco.edu
SUMMARY:Sunday in the Park with George
DESCRIPTION:Sunday in the Park with George is a stunning original musical inspired by the life of artist Georges Seurat and his masterpiece\, A Sunday Afternoon on the Island of La Grande Jatte. With a brilliant score by Stephen Sondheim and a deeply moving story about art\, love and legacy\, this Pulitzer Prize-winning show explores the sacrifices of creativity and the timeless struggle to find connection through creation. A must-see for lovers of art and theater! \nBook by James Lapine • Music by Stephen Sondheim \nDirected by Ryan Driscoll & Anne M Toewe • Musical Direction by Ryan Driscoll
URL:https://www.unco.edu/events/sunday-in-the-park-with-george/2026-03-07/
LOCATION:Langworthy Theatre\, 1710 9th Ave\, Greeley\, CO\, 80631\, United States
CATEGORIES:Performing and Visual Arts,Theatre
ATTACH;FMTTYPE=image/jpeg:/app/uploads/2025/09/SundayInThePark_assets1920x1080.jpg
END:VEVENT
BEGIN:VEVENT
DTSTART;TZID=America/Denver:20260306T193000
DTEND;TZID=America/Denver:20260306T213000
DTSTAMP:20260420T025125
CREATED:20251120T175247Z
LAST-MODIFIED:20251120T175247Z
UID:10002447-1772825400-1772832600@www.unco.edu
SUMMARY:Sunday in the Park with George
DESCRIPTION:Sunday in the Park with George is a stunning original musical inspired by the life of artist Georges Seurat and his masterpiece\, A Sunday Afternoon on the Island of La Grande Jatte. With a brilliant score by Stephen Sondheim and a deeply moving story about art\, love and legacy\, this Pulitzer Prize-winning show explores the sacrifices of creativity and the timeless struggle to find connection through creation. A must-see for lovers of art and theater! \nBook by James Lapine • Music by Stephen Sondheim \nDirected by Ryan Driscoll & Anne M Toewe • Musical Direction by Ryan Driscoll
URL:https://www.unco.edu/events/sunday-in-the-park-with-george/2026-03-06/
LOCATION:Langworthy Theatre\, 1710 9th Ave\, Greeley\, CO\, 80631\, United States
CATEGORIES:Performing and Visual Arts,Theatre
ATTACH;FMTTYPE=image/jpeg:/app/uploads/2025/09/SundayInThePark_assets1920x1080.jpg
END:VEVENT
BEGIN:VEVENT
DTSTART;VALUE=DATE:20260306
DTEND;VALUE=DATE:20260307
DTSTAMP:20260420T025125
CREATED:20260115T234641Z
LAST-MODIFIED:20260116T014202Z
UID:10002494-1772755200-1772841599@www.unco.edu
SUMMARY:High School Theatre Festival
DESCRIPTION:High school theatre students come to campus for a day of immersive theatre\, where they work with faculty and students in workshops\, audition for our programs and attend a performance of our spring musical\, Sunday in the Park with George. (Registration required)
URL:https://www.unco.edu/events/high-school-theatre-festival/
LOCATION:Langworthy Theatre\, 1710 9th Ave\, Greeley\, CO\, 80631\, United States
CATEGORIES:Performing and Visual Arts,Theatre
END:VEVENT
BEGIN:VEVENT
DTSTART;TZID=America/Denver:20260305T193000
DTEND;TZID=America/Denver:20260305T213000
DTSTAMP:20260420T025125
CREATED:20251120T175247Z
LAST-MODIFIED:20251120T175247Z
UID:10002446-1772739000-1772746200@www.unco.edu
SUMMARY:Sunday in the Park with George
DESCRIPTION:Sunday in the Park with George is a stunning original musical inspired by the life of artist Georges Seurat and his masterpiece\, A Sunday Afternoon on the Island of La Grande Jatte. With a brilliant score by Stephen Sondheim and a deeply moving story about art\, love and legacy\, this Pulitzer Prize-winning show explores the sacrifices of creativity and the timeless struggle to find connection through creation. A must-see for lovers of art and theater! \nBook by James Lapine • Music by Stephen Sondheim \nDirected by Ryan Driscoll & Anne M Toewe • Musical Direction by Ryan Driscoll
URL:https://www.unco.edu/events/sunday-in-the-park-with-george/2026-03-05/
LOCATION:Langworthy Theatre\, 1710 9th Ave\, Greeley\, CO\, 80631\, United States
CATEGORIES:Performing and Visual Arts,Theatre
ATTACH;FMTTYPE=image/jpeg:/app/uploads/2025/09/SundayInThePark_assets1920x1080.jpg
END:VEVENT
BEGIN:VEVENT
DTSTART;TZID=America/Denver:20260222T140000
DTEND;TZID=America/Denver:20260222T160000
DTSTAMP:20260420T025125
CREATED:20251002T175108Z
LAST-MODIFIED:20260210T194235Z
UID:10002431-1771768800-1771776000@www.unco.edu
SUMMARY:Junk
DESCRIPTION:Junk is set in the high-flying\, risk-seeking\, teetering financial world of the 1980s and inspired by the real junk bond kings of the day. Financier Robert Merkin will stop at nothing to take over an iconic American manufacturing company\, changing the rules as he goes. With his brilliance matched only by his swagger\, Merkin sets in motion nothing less than a financial civil war\, pitting magnates against workers\, lawyers against journalists\, and everyone against themselves. \nBook by Ayad Akhtar \nBOGO Promo Code: BOGOJUNK
URL:https://www.unco.edu/events/junk/2026-02-22/
LOCATION:Norton Theatre\, 1828 10th Ave\, Greeley\, CO\, 80631
CATEGORIES:Performing and Visual Arts,Theatre
ATTACH;FMTTYPE=image/jpeg:/app/uploads/2025/09/Junk_assets1920x1080.jpg
END:VEVENT
BEGIN:VEVENT
DTSTART;TZID=America/Denver:20260221T193000
DTEND;TZID=America/Denver:20260221T213000
DTSTAMP:20260420T025125
CREATED:20251002T175108Z
LAST-MODIFIED:20260210T194235Z
UID:10002405-1771702200-1771709400@www.unco.edu
SUMMARY:Junk
DESCRIPTION:Junk is set in the high-flying\, risk-seeking\, teetering financial world of the 1980s and inspired by the real junk bond kings of the day. Financier Robert Merkin will stop at nothing to take over an iconic American manufacturing company\, changing the rules as he goes. With his brilliance matched only by his swagger\, Merkin sets in motion nothing less than a financial civil war\, pitting magnates against workers\, lawyers against journalists\, and everyone against themselves. \nBook by Ayad Akhtar \nBOGO Promo Code: BOGOJUNK
URL:https://www.unco.edu/events/junk/2026-02-21/
LOCATION:Norton Theatre\, 1828 10th Ave\, Greeley\, CO\, 80631
CATEGORIES:Performing and Visual Arts,Theatre
ATTACH;FMTTYPE=image/jpeg:/app/uploads/2025/09/Junk_assets1920x1080.jpg
END:VEVENT
BEGIN:VEVENT
DTSTART;TZID=America/Denver:20260220T193000
DTEND;TZID=America/Denver:20260220T213000
DTSTAMP:20260420T025125
CREATED:20251002T175108Z
LAST-MODIFIED:20260210T194235Z
UID:10002404-1771615800-1771623000@www.unco.edu
SUMMARY:Junk
DESCRIPTION:Junk is set in the high-flying\, risk-seeking\, teetering financial world of the 1980s and inspired by the real junk bond kings of the day. Financier Robert Merkin will stop at nothing to take over an iconic American manufacturing company\, changing the rules as he goes. With his brilliance matched only by his swagger\, Merkin sets in motion nothing less than a financial civil war\, pitting magnates against workers\, lawyers against journalists\, and everyone against themselves. \nBook by Ayad Akhtar \nBOGO Promo Code: BOGOJUNK
URL:https://www.unco.edu/events/junk/2026-02-20/
LOCATION:Norton Theatre\, 1828 10th Ave\, Greeley\, CO\, 80631
CATEGORIES:Performing and Visual Arts,Theatre
ATTACH;FMTTYPE=image/jpeg:/app/uploads/2025/09/Junk_assets1920x1080.jpg
END:VEVENT
BEGIN:VEVENT
DTSTART;TZID=America/Denver:20260219T193000
DTEND;TZID=America/Denver:20260219T213000
DTSTAMP:20260420T025125
CREATED:20251002T175108Z
LAST-MODIFIED:20260210T194235Z
UID:10002403-1771529400-1771536600@www.unco.edu
SUMMARY:Junk
DESCRIPTION:Junk is set in the high-flying\, risk-seeking\, teetering financial world of the 1980s and inspired by the real junk bond kings of the day. Financier Robert Merkin will stop at nothing to take over an iconic American manufacturing company\, changing the rules as he goes. With his brilliance matched only by his swagger\, Merkin sets in motion nothing less than a financial civil war\, pitting magnates against workers\, lawyers against journalists\, and everyone against themselves. \nBook by Ayad Akhtar \nBOGO Promo Code: BOGOJUNK
URL:https://www.unco.edu/events/junk/2026-02-19/
LOCATION:Norton Theatre\, 1828 10th Ave\, Greeley\, CO\, 80631
CATEGORIES:Performing and Visual Arts,Theatre
ATTACH;FMTTYPE=image/jpeg:/app/uploads/2025/09/Junk_assets1920x1080.jpg
END:VEVENT
BEGIN:VEVENT
DTSTART;TZID=America/Denver:20260215T140000
DTEND;TZID=America/Denver:20260215T160000
DTSTAMP:20260420T025125
CREATED:20251002T175108Z
LAST-MODIFIED:20260210T194235Z
UID:10002430-1771164000-1771171200@www.unco.edu
SUMMARY:Junk
DESCRIPTION:Junk is set in the high-flying\, risk-seeking\, teetering financial world of the 1980s and inspired by the real junk bond kings of the day. Financier Robert Merkin will stop at nothing to take over an iconic American manufacturing company\, changing the rules as he goes. With his brilliance matched only by his swagger\, Merkin sets in motion nothing less than a financial civil war\, pitting magnates against workers\, lawyers against journalists\, and everyone against themselves. \nBook by Ayad Akhtar \nBOGO Promo Code: BOGOJUNK
URL:https://www.unco.edu/events/junk/2026-02-15/
LOCATION:Norton Theatre\, 1828 10th Ave\, Greeley\, CO\, 80631
CATEGORIES:Performing and Visual Arts,Theatre
ATTACH;FMTTYPE=image/jpeg:/app/uploads/2025/09/Junk_assets1920x1080.jpg
END:VEVENT
BEGIN:VEVENT
DTSTART;TZID=America/Denver:20260214T193000
DTEND;TZID=America/Denver:20260214T213000
DTSTAMP:20260420T025125
CREATED:20251002T175108Z
LAST-MODIFIED:20260210T194235Z
UID:10002400-1771097400-1771104600@www.unco.edu
SUMMARY:Junk
DESCRIPTION:Junk is set in the high-flying\, risk-seeking\, teetering financial world of the 1980s and inspired by the real junk bond kings of the day. Financier Robert Merkin will stop at nothing to take over an iconic American manufacturing company\, changing the rules as he goes. With his brilliance matched only by his swagger\, Merkin sets in motion nothing less than a financial civil war\, pitting magnates against workers\, lawyers against journalists\, and everyone against themselves. \nBook by Ayad Akhtar \nBOGO Promo Code: BOGOJUNK
URL:https://www.unco.edu/events/junk/2026-02-14/
LOCATION:Norton Theatre\, 1828 10th Ave\, Greeley\, CO\, 80631
CATEGORIES:Performing and Visual Arts,Theatre
ATTACH;FMTTYPE=image/jpeg:/app/uploads/2025/09/Junk_assets1920x1080.jpg
END:VEVENT
BEGIN:VEVENT
DTSTART;TZID=America/Denver:20260213T193000
DTEND;TZID=America/Denver:20260213T213000
DTSTAMP:20260420T025125
CREATED:20251002T175108Z
LAST-MODIFIED:20260210T194235Z
UID:10002399-1771011000-1771018200@www.unco.edu
SUMMARY:Junk
DESCRIPTION:Junk is set in the high-flying\, risk-seeking\, teetering financial world of the 1980s and inspired by the real junk bond kings of the day. Financier Robert Merkin will stop at nothing to take over an iconic American manufacturing company\, changing the rules as he goes. With his brilliance matched only by his swagger\, Merkin sets in motion nothing less than a financial civil war\, pitting magnates against workers\, lawyers against journalists\, and everyone against themselves. \nBook by Ayad Akhtar \nBOGO Promo Code: BOGOJUNK
URL:https://www.unco.edu/events/junk/2026-02-13/
LOCATION:Norton Theatre\, 1828 10th Ave\, Greeley\, CO\, 80631
CATEGORIES:Performing and Visual Arts,Theatre
ATTACH;FMTTYPE=image/jpeg:/app/uploads/2025/09/Junk_assets1920x1080.jpg
END:VEVENT
BEGIN:VEVENT
DTSTART;TZID=America/Denver:20260212T193000
DTEND;TZID=America/Denver:20260212T213000
DTSTAMP:20260420T025125
CREATED:20251002T175108Z
LAST-MODIFIED:20260210T194235Z
UID:10002398-1770924600-1770931800@www.unco.edu
SUMMARY:Junk
DESCRIPTION:Junk is set in the high-flying\, risk-seeking\, teetering financial world of the 1980s and inspired by the real junk bond kings of the day. Financier Robert Merkin will stop at nothing to take over an iconic American manufacturing company\, changing the rules as he goes. With his brilliance matched only by his swagger\, Merkin sets in motion nothing less than a financial civil war\, pitting magnates against workers\, lawyers against journalists\, and everyone against themselves. \nBook by Ayad Akhtar \nBOGO Promo Code: BOGOJUNK
URL:https://www.unco.edu/events/junk/2026-02-12/
LOCATION:Norton Theatre\, 1828 10th Ave\, Greeley\, CO\, 80631
CATEGORIES:Performing and Visual Arts,Theatre
ATTACH;FMTTYPE=image/jpeg:/app/uploads/2025/09/Junk_assets1920x1080.jpg
END:VEVENT
BEGIN:VEVENT
DTSTART;TZID=America/Denver:20260124T193000
DTEND;TZID=America/Denver:20260124T210000
DTSTAMP:20260420T025125
CREATED:20260109T183617Z
LAST-MODIFIED:20260116T014136Z
UID:10002481-1769283000-1769288400@www.unco.edu
SUMMARY:Sans Souci Festival of Dance Cinema
DESCRIPTION:Be a part of an international experience that connects dancers\, filmmakers and audiences around the world! We’ll stream this video performance in Langworthy Theatre. (No ticket or registration required\, free and open to the public). \nDirected by Michelle Bernier | Produced by Brian Hapcic
URL:https://www.unco.edu/events/sanssoucifestival/
LOCATION:Langworthy Theatre\, 1710 9th Ave\, Greeley\, CO\, 80631\, United States
CATEGORIES:Performing and Visual Arts,Theatre
ATTACH;FMTTYPE=image/jpeg:/app/uploads/25-169-SoulShelter-JurajMraz.jpg
END:VEVENT
BEGIN:VEVENT
DTSTART;TZID=America/Denver:20260116T180000
DTEND;TZID=America/Denver:20260116T210000
DTSTAMP:20260420T025125
CREATED:20260109T180559Z
LAST-MODIFIED:20260122T163226Z
UID:10002479-1768586400-1768597200@www.unco.edu
SUMMARY:Through Lines
DESCRIPTION:Through Lines is a series of interdisciplinary projects created by faculty members. These multi-part experiences in Campus Commons take you across artistic lines in a melding of music\, theatre\, visual art and dance. \nSadware\nCreated by Bri Murphy\, Belle-Pilar Fleming\, Seojung Lee \nArt Reception 6-7:30pm \nSadware considers ideas of familial inheritance\, class and consumerism by investigating the material history of pewter in the United States. Exploring sculpture\, textile\, printmaking and book arts\, this project treats pewter as a case study on the complexity of American identity. \nPBS Bach\nCreated by Jubal Fulks & Sarah Tallman  \nBach’s three Partitas for solo violin performed by our own professor Jubal Fulks meet the modern choreography of Sarah Tallman\, Ballet Master and Associate Choreographer at Wonderbound Dance Company in Denver. \nCanciones de mi alma (Songs from my soul)\nCreated by Armando Contreras\, Steven Aguiló-Arbues\, Javier Vinasco \nThis evening of Mariachi and Spanish Art Song brings together baritone Armando Contreras\, pianist and music director Steven Aguiló-Arbues\, and clarinettist Javier Vinasco. \nSee the Program
URL:https://www.unco.edu/events/throughlines/
LOCATION:Campus Commons Performance Hall\, 1051 22nd St\, Greeley\, CO\, 80639
CATEGORIES:Music,Performing and Visual Arts,Theatre,University Events,Visual Arts
ATTACH;FMTTYPE=image/jpeg:/app/uploads/IMG_0141.jpg
END:VEVENT
END:VCALENDAR